BEGIN:VCALENDAR
VERSION:2.0
PRODID:-//ChamberMaster//Event Calendar 2.0//EN
METHOD:PUBLISH
X-PUBLISHED-TTL:P3D
REFRESH-INTERVAL:P3D
CALSCALE:GREGORIAN
BEGIN:VEVENT
DTSTART:20141027T220000Z
DTEND:20141028T000000Z
X-MICROSOFT-CDO-ALLDAYEVENT:FALSE
SUMMARY:- 10/27/2014
DESCRIPTION:Concert by The Klemperer Trio a chamber ensemble of exceptional musicianshipFormed in 1980\, The Klemperer Trio has performed to critical acclaim in the United States and Europe. The trio consists of Erika Klemperer\, violin\; Ronald Crutcher\, violoncello\; and Gordon Back\, piano. They are a chamber ensemble of exceptional musicianship\, with a repertoire spanning musical styles from classical to contemporary. 8 p.m.-Arthur Zankel Music Center\, Ladd Concert Hall $8 adults\, $5 senior citizens and Skidmore community\; free for students and children For ticket information call 518-580-5321 or go to www.skidmore.edu/Zankel
X-ALT-DESC;FMTTYPE=text/html:<p>Concert by The Klemperer Trio a chamber ensemble of exceptional musicianship</p><p>Formed in 1980\, The Klemperer Trio has performed to critical acclaim in the United States and Europe. The trio consists of Erika Klemperer\, violin\; Ronald Crutcher\, violoncello\; and Gordon Back\, piano. They are a chamber ensemble of exceptional musicianship\, with a repertoire spanning musical styles from classical to contemporary.</p> <p>8 p.m.-Arthur Zankel Music Center\, Ladd Concert Hall</p> <p>$8 adults\, $5 senior citizens and Skidmore <span style="color: black\;">community\; free for students and children</span></p> <p>For ticket information call 518-580-5321 or go to <a href="http://www.skidmore.edu/Zankel">www.skidmore.edu/Zankel</a></p>
LOCATION:Arthur Zankel Music Center\, Skidmore College
UID:e.2254.2051
SEQUENCE:3
DTSTAMP:20260424T110654Z
URL:https://chamber.saratoga.org/events/details/10-27-2014-10-27-2014-2051
END:VEVENT

END:VCALENDAR
