BEGIN:VCALENDAR
VERSION:2.0
PRODID:-//ChamberMaster//Event Calendar 2.0//EN
METHOD:PUBLISH
X-PUBLISHED-TTL:P3D
REFRESH-INTERVAL:P3D
CALSCALE:GREGORIAN
BEGIN:VEVENT
DTSTART:20141026T113000Z
DTEND:20141026T140000Z
X-MICROSOFT-CDO-ALLDAYEVENT:FALSE
SUMMARY:- 10/26/2014
DESCRIPTION:A fun 5k race in support of Special OlympicsEach runner will start off with a flag belt and three flags representing life lines. \n\nZombies throughout the course attempt to take these one at atime. \n\nIf you lose all three\, you’re dead and the zombies have won.
X-ALT-DESC;FMTTYPE=text/html:<p>A fun 5k race in support of Special Olympics</p><span style="font-family: 'Times New Roman'\; font-size: medium\; line-height: normal\; background-color: rgb(255\, 255\, 255)\;">Each runner will start off with a flag belt and three flags representing life lines.&nbsp\;</span><br style="font-family: 'Times New Roman'\; font-size: medium\; line-height: normal\; background-color: rgb(255\, 255\, 255)\;"><br style="font-family: 'Times New Roman'\; font-size: medium\; line-height: normal\; background-color: rgb(255\, 255\, 255)\;"><span style="font-family: 'Times New Roman'\; font-size: medium\; line-height: normal\; background-color: rgb(255\, 255\, 255)\;">Zombies throughout the course attempt to take these one at atime.&nbsp\;</span><br style="font-family: 'Times New Roman'\; font-size: medium\; line-height: normal\; background-color: rgb(255\, 255\, 255)\;"><br style="font-family: 'Times New Roman'\; font-size: medium\; line-height: normal\; background-color: rgb(255\, 255\, 255)\;"><span style="font-family: 'Times New Roman'\; font-size: medium\; line-height: normal\; background-color: rgb(255\, 255\, 255)\;">If you lose all three\, you’re dead and the zombies have won.</span><br>
LOCATION:Saratoga Spa State Park
UID:e.2254.3479
SEQUENCE:3
DTSTAMP:20260424T123537Z
URL:https://chamber.saratoga.org/events/details/10-26-2014-10-26-2014-3479
END:VEVENT

END:VCALENDAR
