BEGIN:VCALENDAR
VERSION:2.0
PRODID:-//ChamberMaster//Event Calendar 2.0//EN
METHOD:PUBLISH
X-PUBLISHED-TTL:P3D
REFRESH-INTERVAL:P3D
CALSCALE:GREGORIAN
BEGIN:VEVENT
DTSTART:20141027T020000Z
DTEND:20141027T020000Z
X-MICROSOFT-CDO-ALLDAYEVENT:FALSE
SUMMARY:- 10/26/2014
DESCRIPTION:Saratoga Office Tues/Thurs - 9-12 or 5-8\, 6 week classLiberty Tax is now taking late registration for their Fall Tax Class!  Liberty Tax hires their seasonal Income Tax Preparers from this class! This is a 6 week class beginning on Oct 27th\, classes to be held: Saratoga Office Tues/Thurs - 9-12 or 5-8 and Colonie Wed/Fri 9-12 or 5-8! Tuition is FREE - there is a small fee for books- please contact Vicky at 584-1120 or vhall.libertytax@yahoo.com for more info or to register!
X-ALT-DESC;FMTTYPE=text/html:<p>Saratoga Office Tues/Thurs - 9-12 or 5-8\, 6 week class</p><p>Liberty Tax is now taking late registration for their Fall Tax Class! &nbsp\;Liberty Tax hires their seasonal Income Tax Preparers from this class! This is a 6 week class beginning on Oct 27th\, classes to be held: Saratoga Office Tues/Thurs - 9-12 or 5-8 and Colonie Wed/Fri 9-12 or 5-8! Tuition is FREE - there is a small fee for books- please contact Vicky at 584-1120 or <a href="mailto:vhall.libertytax@yahoo.com">vhall.libertytax@yahoo.com</a> for more info or to register!</p>
LOCATION:Liberty Tax Service
UID:e.2254.2217
SEQUENCE:3
DTSTAMP:20260424T110655Z
URL:https://chamber.saratoga.org/events/details/10-26-2014-10-26-2014-2217
END:VEVENT

END:VCALENDAR
