BEGIN:VCALENDAR
VERSION:2.0
PRODID:-//ChamberMaster//Event Calendar 2.0//EN
METHOD:PUBLISH
X-PUBLISHED-TTL:P3D
REFRESH-INTERVAL:P3D
CALSCALE:GREGORIAN
BEGIN:VEVENT
DTSTART:20141026T160000Z
DTEND:20141026T180000Z
X-MICROSOFT-CDO-ALLDAYEVENT:FALSE
SUMMARY:- 10/26/2014
DESCRIPTION:Neave Trio: Anna Williams\, violin\; Mickhail Veselov\, cello\; and Toni James\, piano\, perform for their de Blasiis debutOn On Sunday\, October 26\, 2014 at 2pm\, the Neave Trio make their de Blasiis debut. The trio\, Anna Williams\, violin\, Mickhail Veselov\, cello\, and Toni James\, piano\,  have been hailed by critics as "absolutely stunning"\, and "up-and-coming ensemble"\, praised for its "heart-on-sleeve performance" and nominated by the Boston Phoenix as the "Best of Boston".  They hail from the United States\, Scotland and Russia\, was named the first ever Fisch/Axelrod Trio-in-Residence at San Diego State University in the Fall of 2012.\n\nGraduates of the Eastman\, Manhattan and Longy Schools of Music and the Chopin Academy in Moscow\, the Neave Trio has enjoyed international success and festival performances in the US\, Canada\, South America\, UK and Europe\, performing in some of the world's finest concert halls.\nAll rising young soloists\, they have enjoyed international concert and competition success spanning four continents\, with recent notable performances in Guatemala\, Belgium and Russia\, as well as a recital appearance at the British Embassy in Oslo\, Norway. Trio members have studied with artists Natalia Gutman\, Terry King\, Barry Snyder\, Victor Rosenbaum\, Patrinka Kopec\, Irina Muresanu and Laura Bossert\, among others.
X-ALT-DESC;FMTTYPE=text/html:<p>Neave Trio: Anna Williams\, violin\; Mickhail Veselov\, cello\; and Toni James\, piano\, perform for their de Blasiis debut</p><p style="margin: 0in -13.5pt 0.0001pt -0.25in\; line-height: 150%\;"><span style="font-size: 11pt\; line-height: 150%\; font-family: 'Times New Roman'\, serif\;">On<strong>&nbsp\;<span style="font-size: 11pt\; font-family: 'Times New Roman'\, serif\;">On<strong> </strong>Sunday\, October 26\, 2014 at 2pm\, the Neave Trio make their de Blasiis debut. The trio\, Anna Williams\, violin\, Mickhail Veselov\, cello\, and Toni James\, piano\,&nbsp\; have been hailed by critics as "absolutely stunning"\, and "up-and-coming ensemble"\, praised for its "heart-on-sleeve performance" and nominated by the Boston Phoenix as the "Best of Boston". &nbsp\;They hail from the United States\, Scotland and Russia\, was named the first ever Fisch/Axelrod Trio-in-Residence at San Diego State University in the Fall of 2012.</span><br></strong></span></p><p style="margin: 0in -13.5pt 0.0001pt -0.25in\; line-height: 150%\;"><span style="font-size: 11pt\; line-height: 150%\; font-family: 'Times New Roman'\, serif\;"><strong><span style="font-size: 11pt\; font-family: 'Times New Roman'\, serif\;"><br></span></strong></span></p><p style="margin: 0in -13.5pt 0.0001pt -0.25in\; line-height: 150%\;"><span style="font-size: 11pt\; line-height: 150%\; font-family: 'Times New Roman'\, serif\;"><strong><span style="font-size: 11pt\; font-family: 'Times New Roman'\, serif\;"><p style="margin: 0in -13.5pt 0.0001pt -0.25in\; line-height: 150%\;"><span style="font-size: 11pt\; line-height: 150%\; font-family: 'Times New Roman'\, serif\;">Graduates of the Eastman\, Manhattan and Longy Schools of Music and the Chopin Academy in Moscow\, the Neave Trio has enjoyed international success and festival performances in the US\, Canada\, South America\, UK and Europe\, performing in some of the world's finest concert halls.</span></p><p style="margin: 0in -13.5pt 0.0001pt -0.25in\; line-height: 150%\;"><span style="font-size: 11pt\; line-height: 150%\; font-family: 'Times New Roman'\, serif\;"><br></span></p><p style="margin: 0in -13.5pt 0.0001pt -0.25in\; line-height: 150%\;"><span style="font-size: 11pt\; line-height: 150%\; font-family: 'Times New Roman'\, serif\;"><p style="margin: 0in -13.5pt 0.0001pt -0.25in\; line-height: 150%\;"><span style="font-size: 11pt\; line-height: 150%\; font-family: 'Times New Roman'\, serif\;">All rising young soloists\, they have enjoyed international concert and competition success spanning four continents\, with recent notable performances in Guatemala\, Belgium and Russia\, as well as a recital appearance at the British Embassy in Oslo\, Norway. Trio members have studied with artists Natalia Gutman\, Terry King\, Barry Snyder\, Victor Rosenbaum\, Patrinka Kopec\, Irina Muresanu and Laura Bossert\, among others.&nbsp\;&nbsp\;</span></p><br></span></p><br></span></strong></span></p>
LOCATION:The Hyde Collection Art Museum
UID:e.2254.2095
SEQUENCE:3
DTSTAMP:20260424T110714Z
URL:https://chamber.saratoga.org/events/details/10-26-2014-10-26-2014-2095
END:VEVENT

END:VCALENDAR
