BEGIN:VCALENDAR
VERSION:2.0
PRODID:-//ChamberMaster//Event Calendar 2.0//EN
METHOD:PUBLISH
X-PUBLISHED-TTL:P3D
REFRESH-INTERVAL:P3D
CALSCALE:GREGORIAN
BEGIN:VEVENT
DTSTART:20141026T150000Z
DTEND:20141026T170000Z
X-MICROSOFT-CDO-ALLDAYEVENT:FALSE
SUMMARY:- 10/26/2014
DESCRIPTION:Exclusive Wine   Colors\, an Exclusive Wine & Food Tasting event created to thank our guests. The event will feature 60 different wines as well as menu tastings from Forno Bistro\, Chianti Ristorante\, Pasta Pane and Boca Bistro. All proceeds will be donated to Kaitlin's Korner.
X-ALT-DESC;FMTTYPE=text/html:<p>Exclusive Wine & Food Tasting event</p>Join us at Forno Bistro on Sunday October 26th from 1:00 - 3:00 for our 3rd Annual Corks\, Cuisine &amp\; Colors\, an Exclusive Wine &amp\; Food Tasting event created to thank our guests. The event will feature 60 different wines as well as menu tastings from Forno Bistro\, Chianti Ristorante\, Pasta Pane and Boca Bistro. All proceeds will be donated to Kaitlin's Korner.
LOCATION:Forno Bistro
UID:e.2254.2072
SEQUENCE:3
DTSTAMP:20260424T123536Z
URL:https://chamber.saratoga.org/events/details/10-26-2014-10-26-2014-2072
END:VEVENT

END:VCALENDAR
