BEGIN:VCALENDAR
VERSION:2.0
PRODID:-//ChamberMaster//Event Calendar 2.0//EN
METHOD:PUBLISH
X-PUBLISHED-TTL:P3D
REFRESH-INTERVAL:P3D
CALSCALE:GREGORIAN
BEGIN:VEVENT
DTSTART:20141026T190000Z
DTEND:20141027T000000Z
X-MICROSOFT-CDO-ALLDAYEVENT:FALSE
SUMMARY:- 10/26/2014
DESCRIPTION:Dine at Pasta Pane on October 26th and 30% of your check will be donated to Animal Protective Foundation. Animal Protective Foundation will be featured in our Raising Dough Program at Pasta pane on October 26th. Dine at Pasta Pane on October 26th and 30% of your check will be donated to Animal Protective Foundation. Please join us for a great dinner\, and a great cause! (Reservations are accepted and suggested)
X-ALT-DESC;FMTTYPE=text/html:<p>Dine at Pasta Pane on October 26th and 30% of your check will be donated to Animal Protective Foundation. </p><p>Animal Protective Foundation will be featured in our Raising Dough Program at Pasta pane on October 26th. Dine at Pasta Pane on October 26th and 30% of your check will be donated to Animal Protective Foundation. Please join us for a great dinner\, and a great cause! (Reservations are accepted and suggested)</p>
LOCATION:Pasta Pane
UID:e.2254.2060
SEQUENCE:3
DTSTAMP:20260424T123538Z
URL:https://chamber.saratoga.org/events/details/10-26-2014-10-26-2014-2060
END:VEVENT

END:VCALENDAR
