BEGIN:VCALENDAR
VERSION:2.0
PRODID:-//ChamberMaster//Event Calendar 2.0//EN
METHOD:PUBLISH
X-PUBLISHED-TTL:P3D
REFRESH-INTERVAL:P3D
CALSCALE:GREGORIAN
BEGIN:VEVENT
DTSTART:20141026T170000Z
DTEND:20141026T190000Z
X-MICROSOFT-CDO-ALLDAYEVENT:FALSE
SUMMARY:- 10/26/2014
DESCRIPTION:Celebrating the Music of Jewish Composers:  Milhaud\, Schoenfield\, Mendelssohn\, Schulhoff\, and more" Featuring acclaimed pianist and Skidmore faculty member Pola Baytelman. 3 p.m.-Arthur Zankel Music Center\, Ladd Concert Hall For more information call 518-580-5321
X-ALT-DESC;FMTTYPE=text/html:<p>Celebrating the Music of Jewish Composers:  Milhaud\, Schoenfield\, Mendelssohn\, Schulhoff\, and more" </p><p>Featuring acclaimed pianist and Skidmore faculty member Pola Baytelman.</p><p>&nbsp\;<p><span>3 p.m.-</span>Arthur Zankel Music Center\, Ladd Concert Hall</p> <span style="font-size: 12pt\; font-family: Times New Roman\,serif\;">For more information call 518-580-5321</span></p>
LOCATION:Arthur Zankel Music Center\, Skidmore College
UID:e.2254.2049
SEQUENCE:3
DTSTAMP:20260424T110715Z
URL:https://chamber.saratoga.org/events/details/10-26-2014-10-26-2014-2049
END:VEVENT

END:VCALENDAR
