BEGIN:VCALENDAR
VERSION:2.0
PRODID:-//ChamberMaster//Event Calendar 2.0//EN
METHOD:PUBLISH
X-PUBLISHED-TTL:P3D
REFRESH-INTERVAL:P3D
CALSCALE:GREGORIAN
BEGIN:VEVENT
DTSTART:20141025T210000Z
DTEND:20141026T000000Z
X-MICROSOFT-CDO-ALLDAYEVENT:FALSE
SUMMARY:- 10/25/2014
DESCRIPTION:Adirondack Flames HockeySaturday Night is Hockey Night in Glens Falls. Making Strides initiative to raise funds and awareness in the fight against breast cancer.
X-ALT-DESC;FMTTYPE=text/html:<p>Adirondack Flames Hockey</p><p>Saturday Night is Hockey Night in Glens Falls. Making Strides initiative to raise funds and awareness in the fight against breast cancer.&nbsp\;</p>
LOCATION:Glens Falls Civic Center
UID:e.2254.2119
SEQUENCE:3
DTSTAMP:20260424T110655Z
URL:https://chamber.saratoga.org/events/details/10-25-2014-10-25-2014-2119
END:VEVENT

END:VCALENDAR
