BEGIN:VCALENDAR
VERSION:2.0
PRODID:-//ChamberMaster//Event Calendar 2.0//EN
METHOD:PUBLISH
X-PUBLISHED-TTL:P3D
REFRESH-INTERVAL:P3D
CALSCALE:GREGORIAN
BEGIN:VEVENT
DTSTART:20141025T170000Z
DTEND:20141025T210000Z
X-MICROSOFT-CDO-ALLDAYEVENT:FALSE
SUMMARY:- 10/25/2014
DESCRIPTION:Oct 25th\, Great Fall Festival  is hosting the Great Fall Festival & Giveaway. Come join us for family fun\, hayrides\, face painting\, crafts\, apple slingshot\, free men's\, women's\, children's clothing and toys. chili cook-off\, free dinner\, bonfire after with campfire music. We welcome all our friends and neighors. Rain or shine!  For more information call 580-1810 or email: office@newlifeinsaratoga.org.  We are located at 51 Old Gick Road\, Saratoga Springs NY.  (behind Wal-Mart next to Turbine Services).
X-ALT-DESC;FMTTYPE=text/html:<p> Oct 25th\, Great Fall Festival & Giveaway 3:00-7:00PM </p><p>New Life Fellowship Church&nbsp\;is hosting the Great Fall Festival &amp\; Giveaway. Come join us for family fun\, hayrides\, face painting\, crafts\, apple slingshot\, free men's\, women's\, children's clothing and toys. chili cook-off\, free dinner\, bonfire after with campfire music.&nbsp\;We welcome all our friends and neighors. Rain or shine! &nbsp\;For more information call 580-1810 or email: <a href="mailto:office@newlifeinsaratoga.org">office@newlifeinsaratoga.org</a>.&nbsp\; We are located at 51 Old Gick Road\, Saratoga Springs NY.&nbsp\; (behind Wal-Mart next to Turbine Services).</p>
LOCATION:New Life Fellowship Church
UID:e.2254.2101
SEQUENCE:3
DTSTAMP:20260424T123538Z
URL:https://chamber.saratoga.org/events/details/10-25-2014-10-25-2014-2101
END:VEVENT

END:VCALENDAR
