BEGIN:VCALENDAR
VERSION:2.0
PRODID:-//ChamberMaster//Event Calendar 2.0//EN
METHOD:PUBLISH
X-PUBLISHED-TTL:P3D
REFRESH-INTERVAL:P3D
CALSCALE:GREGORIAN
BEGIN:VEVENT
DTSTART:20141024T200000Z
DTEND:20141024T220000Z
X-MICROSOFT-CDO-ALLDAYEVENT:FALSE
SUMMARY:- 10/24/2014
DESCRIPTION:Come join Grace Chapel of Clifton Park's Annual Harvest Party on Friday\, October 24 from 6-8 p.m.Come have fun at the Grace Chapel of Clifton Park's Harvest Party on Friday\, October 24 from 6-8 p.m. There will be carnival games\, candy\, a bounce house\, cotton candy\, food and a costume parade. Please no scary costumes or masks. All are welcome!!
X-ALT-DESC;FMTTYPE=text/html:<p>Come join Grace Chapel of Clifton Park's Annual Harvest Party on Friday\, October 24 from 6-8 p.m.</p>Come have fun at the Grace Chapel of Clifton Park's Harvest Party on Friday\, October 24 from 6-8 p.m. There will be carnival games\, candy\, a bounce house\, cotton candy\, food and a costume parade. Please no scary costumes or masks. All are welcome!!<br>
LOCATION:Grace Chapel of Clifton Park
UID:e.2254.2115
SEQUENCE:3
DTSTAMP:20260424T123512Z
URL:https://chamber.saratoga.org/events/details/10-24-2014-10-24-2014-2115
END:VEVENT

END:VCALENDAR
