BEGIN:VCALENDAR
VERSION:2.0
PRODID:-//ChamberMaster//Event Calendar 2.0//EN
METHOD:PUBLISH
X-PUBLISHED-TTL:P3D
REFRESH-INTERVAL:P3D
CALSCALE:GREGORIAN
BEGIN:VEVENT
DTSTART:20141024T220000Z
DTEND:20141025T010000Z
X-MICROSOFT-CDO-ALLDAYEVENT:FALSE
SUMMARY:- 10/24/2014
DESCRIPTION:Johnny Mathis - One of music's biggest icons sweeps the stage with his hit songs and impossible charm on the Proctors Theater stage.Proctors Theater Presents:Johnny Mathis with special guest Brad UptonFriday\, October 24\, 2014 at 8:00pmProctors Theater\, 432 State Street\, Schenectady\, New York 12305Tickets: $20 - $120Box Office: (518) 346-6204 or On-Line:  www.proctors.org
X-ALT-DESC;FMTTYPE=text/html:<p>Johnny Mathis - One of music's biggest icons sweeps the stage with his hit songs and impossible charm on the Proctors Theater stage.</p><p>Proctors Theater Presents:</p><p>Johnny Mathis with special guest Brad Upton</p><p>Friday\, October 24\, 2014 at 8:00pm</p><p>Proctors Theater\, 432 State Street\, Schenectady\, New York 12305</p><p>Tickets: $20 - $120</p><p>Box Office: (518) 346-6204 or On-Line:&nbsp\; <a href="http://www.proctors.org">www.proctors.org</a></p><p>&nbsp\;</p><p></p><p></p><p></p>
LOCATION:Proctors Theater
UID:e.2254.2074
SEQUENCE:3
DTSTAMP:20260424T110534Z
URL:https://chamber.saratoga.org/events/details/10-24-2014-10-24-2014-2074
END:VEVENT

END:VCALENDAR
