BEGIN:VCALENDAR
VERSION:2.0
PRODID:-//ChamberMaster//Event Calendar 2.0//EN
METHOD:PUBLISH
X-PUBLISHED-TTL:P3D
REFRESH-INTERVAL:P3D
CALSCALE:GREGORIAN
BEGIN:VEVENT
DTSTART:20141024T170000Z
DTEND:20141024T183000Z
X-MICROSOFT-CDO-ALLDAYEVENT:FALSE
SUMMARY:- 10/24/2014
DESCRIPTION:Retirement Research Presentation- Colgate professors Meika Loe and Kay Johnston present their research\, based on interviews with professional women retireesColgate professors Meika Loe and Kay Johnston present their research\, based on interviews with professional women retirees. In this interactive session\, they share findings focused on six key themes-fear\, identity\, liberation\, time\, relationships\, and health-and engage audience members in discussion about their own experiences in this new chapter of life. Sponsored by Skidmore's Gender Studies Program and Retiree Initiative Planning Group. 3 p.m.-Whitman Room\, Tang Museum\n For more information call 518-580-5240
X-ALT-DESC;FMTTYPE=text/html:<p>Retirement Research Presentation- Colgate professors Meika Loe and Kay Johnston present their research\, based on interviews with professional women retirees</p><p>Colgate professors Meika Loe and Kay Johnston present their research\, based on interviews with professional women retirees. In this interactive session\, they share findings focused on six key themes-fear\, identity\, liberation\, time\, relationships\, and health-and engage audience members in discussion about their own experiences in this new chapter of life. Sponsored by Skidmore's Gender Studies Program and Retiree Initiative Planning Group.</p> <span style="font-size: 12pt\; font-family: Times New Roman\,serif\;">3 p.m.-Whitman Room\, Tang Museum<br> For more information call 518-580-5240</span>
LOCATION:Tang Museum\, Skidmore College
UID:e.2254.2048
SEQUENCE:3
DTSTAMP:20260424T110456Z
URL:https://chamber.saratoga.org/events/details/10-24-2014-10-24-2014-2048
END:VEVENT

END:VCALENDAR
