BEGIN:VCALENDAR
VERSION:2.0
PRODID:-//ChamberMaster//Event Calendar 2.0//EN
METHOD:PUBLISH
X-PUBLISHED-TTL:P3D
REFRESH-INTERVAL:P3D
CALSCALE:GREGORIAN
BEGIN:VEVENT
DTSTART:20141023T210000Z
DTEND:20141023T230000Z
X-MICROSOFT-CDO-ALLDAYEVENT:FALSE
SUMMARY:- 10/23/2014
DESCRIPTION:LWV of Saratoga County presents 20th U.S. Congressional District Candidate Forum20th U.S. Congressional District: Paul Tonko – Dem\, WF\, Ind.\, attending Jim Fischer – Rep\, Con.\, attending
X-ALT-DESC;FMTTYPE=text/html:<p>LWV of Saratoga County presents 20th U.S. Congressional District Candidate Forum</p><p style=" "><span style="font-size: 10pt\; font-family: 'Courier New'\;">20th U.S. Congressional District:</span></p> <p style=" "><span style="font-size: 10pt\; font-family: 'Courier New'\;">Paul Tonko – Dem\, WF\, Ind.\, attending</span></p> <p style=" "><span style="font-size: 10pt\; font-family: 'Courier New'\;">Jim Fischer – Rep\, Con.\, attending</span></p>
LOCATION:Clifton Park-Halfmoon Public Library
UID:e.2254.2189
SEQUENCE:3
DTSTAMP:20260424T110448Z
URL:https://chamber.saratoga.org/events/details/10-23-2014-10-23-2014-2189
END:VEVENT

END:VCALENDAR
