BEGIN:VCALENDAR
VERSION:2.0
PRODID:-//ChamberMaster//Event Calendar 2.0//EN
METHOD:PUBLISH
X-PUBLISHED-TTL:P3D
REFRESH-INTERVAL:P3D
CALSCALE:GREGORIAN
BEGIN:VEVENT
DTSTART:20141023T220000Z
DTEND:20141023T233000Z
X-MICROSOFT-CDO-ALLDAYEVENT:FALSE
SUMMARY:- 10/23/2014
DESCRIPTION:Concert by Finger Lakes Guitar Quartet 8 p.m.-Arthur Zankel Music Center\, Ladd Concert Hall8 p.m.-Arthur Zankel Music Center\, Ladd Concert Hall $8 adults\, $5 senior citizens and Skidmore community\; free for students and children For ticket information call 518-580-5321 or go to www.skidmore.edu/Zankel
X-ALT-DESC;FMTTYPE=text/html:<p>Concert by Finger Lakes Guitar Quartet 8 p.m.-Arthur Zankel Music Center\, Ladd Concert Hall</p><p>8 p.m.-Arthur Zankel Music Center\, Ladd Concert Hall</p> <p>$8 adults\, $5 senior citizens and Skidmore <span style="color: black\;">community\; free for students and children</span></p> <span style="font-size: 12pt\; font-family: Times New Roman\,serif\;">For ticket information call 518-580-5321 or go to www.skidmore.edu/Zankel</span>
LOCATION:Arthur Zankel Music Center\, Skidmore College
UID:e.2254.2047
SEQUENCE:3
DTSTAMP:20260424T123510Z
URL:https://chamber.saratoga.org/events/details/10-23-2014-10-23-2014-2047
END:VEVENT

END:VCALENDAR
