BEGIN:VCALENDAR
VERSION:2.0
PRODID:-//ChamberMaster//Event Calendar 2.0//EN
METHOD:PUBLISH
X-PUBLISHED-TTL:P3D
REFRESH-INTERVAL:P3D
CALSCALE:GREGORIAN
BEGIN:VEVENT
DTSTART:20141023T190000Z
DTEND:20141024T010000Z
X-MICROSOFT-CDO-ALLDAYEVENT:FALSE
SUMMARY:- 10/23/2014
DESCRIPTION:Tang Museum: Quiet Music Festival Chris Johanson brings his Portland-based Quiet Music Festival to Saratoga SpringsChris Johanson\, an artist featured in the Tamg exhibit I was a double\, brings his Portland-based Quiet Music Festival to Saratoga Springs. Johnason’s band Sun Foot will be joined by national and regional guests in the Tang in honor of the quiet act of listening.\n 5-11 p.m.-Tang Museum For more information call 518-580-8080
X-ALT-DESC;FMTTYPE=text/html:<p>Tang Museum: Quiet Music Festival Chris Johanson brings his Portland-based Quiet Music Festival to Saratoga Springs</p><p><span style="color: black\;">Chris Johanson\, an artist featured in the Tamg exhibit<em> I was a double</em>\, brings his Portland-based Quiet Music Festival to Saratoga Springs. Johnason’s band Sun Foot will be joined by national and regional guests in the Tang in honor of the quiet act of listening.<br></span></p> <p><span style="color: black\;">5-11 p.m.-Tang Museum</span></p> <span style="font-size: 12pt\; font-family: Times New Roman\,serif\; color: black\;">For more information call 518-580-8080</span>
LOCATION:Tang Museum\, Skidmore College
UID:e.2254.2045
SEQUENCE:3
DTSTAMP:20260424T110456Z
URL:https://chamber.saratoga.org/events/details/10-23-2014-10-23-2014-2045
END:VEVENT

END:VCALENDAR
