BEGIN:VCALENDAR
VERSION:2.0
PRODID:-//ChamberMaster//Event Calendar 2.0//EN
METHOD:PUBLISH
X-PUBLISHED-TTL:P3D
REFRESH-INTERVAL:P3D
CALSCALE:GREGORIAN
BEGIN:VEVENT
DTSTART:20141021T100000Z
DTEND:20141021T113000Z
X-MICROSOFT-CDO-ALLDAYEVENT:FALSE
SUMMARY:- 10/21/2014
DESCRIPTION:What are you saying and who are you saying it to? Define your Target Audience/Buyer Personas and make confident marketing decisions in this creative workshop.Is your marketing focused on Marvelous Mary: a single mom\, part-time sales clerk\, and cat-lover who enjoys sneaking episodes of The Real Housewives in-between packing kids lunches?\nOr\, is it look at Blossoming Bill: a recent college graduate with funky-fresh ideas\, a taste for fine coffee\, skinny jeans\, microbrews and artsy shots of antiques?\nPerhaps\, instead\, you're focused on Hearty Harry: the guy in charge of getting his construction crew safely to and from the job\, keeping projects on track\, and getting home on time to his kids\, the nightly news\, and a sunset ride on his motorcycle?Sign up for this quick\, hands-on session and walk away with defined Buyer Personas and the ability to make confident marketing decisions.Part of Allegory Studios’ Marketing Mastery workshop series.Register by contacting:\nJulia Ingersoll\njulia@allegorystudios.com\n(518) 580-1987 x102Or register online by visiting: http://www.allegorystudios.com/marketing-mastery-saratoga-fallwinter-2014/
X-ALT-DESC;FMTTYPE=text/html:<p> What are you saying and who are you saying it to? Define your Target Audience/Buyer Personas and make confident marketing decisions in this creative workshop.</p><p><p style="margin-bottom: 10px\; border: 0px\; vertical-align: baseline\; font-size: 13px\; line-height: 22px\; word-wrap: break-word\; color: rgb(102\, 102\, 102)\; font-family: 'Open Sans'\; background-color: rgb(255\, 255\, 255)\;">Is your marketing focused on Marvelous Mary: a single mom\, part-time sales clerk\, and cat-lover who enjoys sneaking episodes of The Real Housewives in-between packing kids lunches?<br>Or\, is it look at Blossoming Bill: a recent college graduate with funky-fresh ideas\, a taste for fine coffee\, skinny jeans\, microbrews and artsy shots of antiques?<br>Perhaps\, instead\, you're focused on Hearty Harry: the guy in charge of getting his construction crew safely to and from the job\, keeping projects on track\, and getting home on time to his kids\, the nightly news\, and a sunset ride on his motorcycle?</p><p style="margin-bottom: 10px\; border: 0px\; vertical-align: baseline\; font-size: 13px\; line-height: 22px\; word-wrap: break-word\; color: rgb(102\, 102\, 102)\; font-family: 'Open Sans'\; background-color: rgb(255\, 255\, 255)\;">Sign up for this quick\, hands-on session and walk away with defined Buyer Personas and the ability to make confident marketing decisions.</p><p style="margin-bottom: 10px\; border: 0px\; vertical-align: baseline\; font-size: 13px\; line-height: 22px\; word-wrap: break-word\; color: rgb(102\, 102\, 102)\; font-family: 'Open Sans'\; background-color: rgb(255\, 255\, 255)\;"><em style="margin: 0px\; padding: 0px\; border: 0px\; vertical-align: baseline\;">Part of Allegory Studios’&nbsp\;<a href="http://www.allegorystudios.com/marketing-mastery-saratoga-fallwinter-2014/" style="margin: 0px\; padding: 0px\; border: 0px\; vertical-align: baseline\; font-size: 13px\; color: rgb(6\, 69\, 118)\; text-decoration: none\; word-wrap: break-word\; outline-style: none\;">Marketing Mastery workshop series.</a></em></p><p style="margin-bottom: 10px\; border: 0px\; vertical-align: baseline\; font-size: 13px\; line-height: 22px\; word-wrap: break-word\; color: rgb(102\, 102\, 102)\; font-family: 'Open Sans'\; background-color: rgb(255\, 255\, 255)\;"><strong style="margin: 0px\; padding: 0px\; border: 0px\; vertical-align: baseline\;">Register by contacting:</strong><br>Julia Ingersoll<br>julia@allegorystudios.com<br>(518) 580-1987 x102</p><p style="margin-bottom: 10px\; border: 0px\; vertical-align: baseline\; font-size: 13px\; line-height: 22px\; word-wrap: break-word\; color: rgb(102\, 102\, 102)\; font-family: 'Open Sans'\; background-color: rgb(255\, 255\, 255)\;">Or register online by visiting:&nbsp\;<span style="font-size: 12px\; line-height: 16px\; color: rgb(0\, 0\, 0)\; font-family: Arimo\, Arial\, Helvetica\, sans-serif\;">http://www.allegorystudios.com/marketing-mastery-saratoga-fallwinter-2014/</span></p></p>
LOCATION:Allegory Studios
UID:e.2254.3535
SEQUENCE:3
DTSTAMP:20260424T110536Z
URL:https://chamber.saratoga.org/events/details/10-21-2014-10-21-2014-3535
END:VEVENT

END:VCALENDAR
