BEGIN:VCALENDAR
VERSION:2.0
PRODID:-//ChamberMaster//Event Calendar 2.0//EN
METHOD:PUBLISH
X-PUBLISHED-TTL:P3D
REFRESH-INTERVAL:P3D
CALSCALE:GREGORIAN
BEGIN:VEVENT
DTSTART:20141021T210000Z
DTEND:20141021T230000Z
X-MICROSOFT-CDO-ALLDAYEVENT:FALSE
SUMMARY:- 10/21/2014
DESCRIPTION:LWV of Saratoga presents: Learn more about the Redistricting Amendment on the November ballot.Tues.\, October 21\, 7 p.m.Speakers will address the pros and cons:  Flyer Blair Horner - CON Legislative Director of NYPIRG   Laura Bierman - PRO Executive Director\, LWVNY   Saratoga Springs Public Library\, Dutcher Community Room 49 Henry Street\, Saratoga Springs\, NY
X-ALT-DESC;FMTTYPE=text/html:<p>LWV of Saratoga presents: Learn more about the Redistricting Amendment on the November ballot.</p><p style=" "><span style="font-size: 10pt\; font-family: 'Courier New'\;"><p style=" "><span style="font-size: 10pt\; font-family: 'Courier New'\;">Tues.\, October 21\, 7 p.m.</span></p></span></p><p style=" "><span style="font-family: 'Courier New'\; font-size: 10pt\;">Speakers</span></p> <p style=" "><span style="font-size: 10pt\; font-family: 'Courier New'\;">will address the pros and cons:&nbsp\; Flyer</span></p> <p style=" "><span style="font-size: 10pt\; font-family: 'Courier New'\;">Blair Horner - CON</span></p> <p style=" "><span style="font-size: 10pt\; font-family: 'Courier New'\;">Legislative Director of NYPIRG</span></p> <p style=" "> </p> <p style=" "><span style="font-size: 10pt\; font-family: 'Courier New'\;">Laura Bierman - PRO</span></p> <p style=" "><span style="font-size: 10pt\; font-family: 'Courier New'\;">Executive Director\, LWVNY</span></p> <p style=" "> </p> <p style=" "><span style="font-size: 10pt\; font-family: 'Courier New'\;">Saratoga Springs Public Library\, Dutcher Community Room</span></p> <p style=" "><span style="font-size: 10pt\; font-family: 'Courier New'\;">49 Henry Street\, Saratoga Springs\, NY&nbsp\;</span></p>
LOCATION:Saratoga Springs Public Library\, Dutcher Community Room
UID:e.2254.2188
SEQUENCE:3
DTSTAMP:20260424T110457Z
URL:https://chamber.saratoga.org/events/details/10-21-2014-10-21-2014-2188
END:VEVENT

END:VCALENDAR
