BEGIN:VCALENDAR
VERSION:2.0
PRODID:-//ChamberMaster//Event Calendar 2.0//EN
METHOD:PUBLISH
X-PUBLISHED-TTL:P3D
REFRESH-INTERVAL:P3D
CALSCALE:GREGORIAN
BEGIN:VEVENT
DTSTART:20141021T200000Z
DTEND:20141021T220000Z
X-MICROSOFT-CDO-ALLDAYEVENT:FALSE
SUMMARY:- 10/21/2014
DESCRIPTION:AAA Northway Job Fair Featuring Fleet OpportunitiesAAA Northway Job Fair\nFeaturing Fleet Opportunities\nTUESDAY\, OCTOBER 21 6-8 PM\nAAA Northway - 1647 Route 9 Halfmoon\, NY\n\nINFORMATIONAL PRESENTATION TO LEARN ABOUT BECOMING A AAA FLEET DRIVER\n– Live demonstration of towing techniques\n– Meet AAA Northway Fleet Management\n– Gift for attendees\n– Limited seating to the first 30\n\nFOR MORE INFORMATION OR TO RSVP\nplease visit AAA.com/Careers\nor contact 518-370-5400 ext 1206 or 1207
X-ALT-DESC;FMTTYPE=text/html:<p>AAA Northway Job Fair Featuring Fleet Opportunities</p>AAA Northway Job Fair<br>Featuring Fleet Opportunities<br>TUESDAY\, OCTOBER 21 6-8 PM<br>AAA Northway - 1647 Route 9 Halfmoon\, NY<br><br>INFORMATIONAL PRESENTATION TO LEARN ABOUT BECOMING A AAA FLEET DRIVER<br>– Live demonstration of towing techniques<br>– Meet AAA Northway Fleet Management<br>– Gift for attendees<br>– Limited seating to the first 30<br><br>FOR MORE INFORMATION OR TO RSVP<br>please visit <a href="http://www.AAA.com/Careers" target="_blank">AAA.com/Careers</a><br>or contact 518-370-5400 ext 1206 or 1207
LOCATION:AAA Northway
UID:e.2254.2071
SEQUENCE:3
DTSTAMP:20260424T123530Z
URL:https://chamber.saratoga.org/events/details/10-21-2014-10-21-2014-2071
END:VEVENT

END:VCALENDAR
