BEGIN:VCALENDAR
VERSION:2.0
PRODID:-//ChamberMaster//Event Calendar 2.0//EN
METHOD:PUBLISH
X-PUBLISHED-TTL:P3D
REFRESH-INTERVAL:P3D
CALSCALE:GREGORIAN
BEGIN:VEVENT
DTSTART:20141020T213000Z
DTEND:20141021T003000Z
X-MICROSOFT-CDO-ALLDAYEVENT:FALSE
SUMMARY:- 10/20/2014
DESCRIPTION:Holly   Evan will be performing:Monday\, October 20\, 2014 from 7:30pm - 10:30pmOne Caroline Street Bistro\, 1 Caroline Street\, Saratoga Springs\, New York 12866(518) 587-2026 - www.onecaroline.comHolly & Evan band web-site:  www.hollyandevan.com
X-ALT-DESC;FMTTYPE=text/html:<p>Holly & Evan will be performing Blues/Jazz/Soul at One Caroline Street Bistro on Monday\, October 20 from 7:30pm-10:30pm</p><p>Holly &amp\; Evan will be performing:</p><p>Monday\, October 20\, 2014 from 7:30pm - 10:30pm</p><p>One Caroline Street Bistro\, 1 Caroline Street\, Saratoga Springs\, New York 12866</p><p>(518) 587-2026 - <a href="http://www.onecaroline.com">www.onecaroline.com</a></p><p>Holly &amp\; Evan band web-site:&nbsp\; <a href="http://www.hollyandevan.com">www.hollyandevan.com</a></p><p></p>
LOCATION:One Caroline Street Bistro
UID:e.2254.2182
SEQUENCE:3
DTSTAMP:20260424T092905Z
URL:https://chamber.saratoga.org/events/details/10-20-2014-10-20-2014-2182
END:VEVENT

END:VCALENDAR
