BEGIN:VCALENDAR
VERSION:2.0
PRODID:-//ChamberMaster//Event Calendar 2.0//EN
METHOD:PUBLISH
X-PUBLISHED-TTL:P3D
REFRESH-INTERVAL:P3D
CALSCALE:GREGORIAN
BEGIN:VEVENT
DTSTART:20141019T160000Z
DTEND:20141019T170000Z
X-MICROSOFT-CDO-ALLDAYEVENT:FALSE
SUMMARY:- 10/19/2014
DESCRIPTION:Artist Anne Diggory discusses painting Lake GeorgeAnne Diggory’s research into the painting location of nineteenth-century painter John Frederick Kensett’s iconic Lake George\, 1869\, was recently published in the Metropolitan Museum Journal\, in an article that corrects the misconception that he altered the topography and clarifies the artistic choices he made to convey the drama of light on the landforms at the lake.   To research Kensett’s location Diggory spent time on and around the lake\, photographing what inspired him in a process of capturing light and movement that is now part of her own artwork\, currently on view in Anne Diggory: Hybrid Visions through January 4\, 2015.
X-ALT-DESC;FMTTYPE=text/html:<p>Artist Anne Diggory discusses painting Lake George</p><p style="margin-left: 1in\; text-indent: -1in\; background: white\;"><span style="font-size: 11pt\;">Anne </span><span style="font-size: 11pt\; color: rgb(52\, 52\, 52)\; ">Diggory’s research into the painting location of </span><span style="font-size: 11pt\; color: rgb(34\, 34\, 34)\;">nineteenth-century painter John Frederick</span> <span style="font-size: 11pt\; color: rgb(52\, 52\, 52)\; ">Kensett’s iconic <em>Lake George</em>\, 1869\, was recently published in the <em>Metropolitan Museum Journal\, </em>in an article that corrects the misconception that he altered the topography and clarifies the artistic choices he made to convey the drama of light on the landforms at the lake. &nbsp\;&nbsp\;To research Kensett’s location Diggory spent time on and around the lake\, photographing what inspired him in a process of capturing light and movement that is now part of her own artwork\, currently on view in <em>Anne Diggory: Hybrid Visions</em> through January 4\, 2015.&nbsp\;</span></p>
LOCATION:The Hyde Collection Art Museum
UID:e.2254.2093
SEQUENCE:3
DTSTAMP:20260424T110629Z
URL:https://chamber.saratoga.org/events/details/10-19-2014-10-19-2014-2093
END:VEVENT

END:VCALENDAR
