BEGIN:VCALENDAR
VERSION:2.0
PRODID:-//ChamberMaster//Event Calendar 2.0//EN
METHOD:PUBLISH
X-PUBLISHED-TTL:P3D
REFRESH-INTERVAL:P3D
CALSCALE:GREGORIAN
BEGIN:VEVENT
DTSTART:20141019T130000Z
DTEND:20141019T170000Z
X-MICROSOFT-CDO-ALLDAYEVENT:FALSE
SUMMARY:- 10/19/2014
DESCRIPTION:FREE Bridal Show\, pre-register at 1013thejockey.com\nPlease join 101.3 The Jockey on Sunday\, October 19th for The Empire Bridal Show at the Fairways of Halfmoon!\n\nWe will have over 40 of the top wedding professionals under one roof.   Free upscale buffet\, live music & fabulous door prizes\, including: \n\n$800 Signature DJ Show Package from Complete Music\, Video\, Photo\n\nFree Tuxedo Rental from Men's Wearhouse\n\nTrip & Ring Voucher from Bridal Registry\, Inc.\n\nGift Basket by Mary Kay - Brenda Tholin\n\nFree Tuxedo Rental from Brides & More Boutique\n\nFree Pair of Women's Shoes from Brides & More Boutique\n\n$100 off a Bridal Gown from Brides & More Boutique\nPre-register on 101.3 The Jockey's website and you're automatically entered to win a 3 Night Ski Vacation to Smugglers' Notch in Vermont!
X-ALT-DESC;FMTTYPE=text/html:<p>FREE Bridal Show\, pre-register at 1013thejockey.com</p><p style="font-family: arial\, sans-serif\; line-height: normal\; background-color: rgb(255\, 255\, 255)\;"></p>\nPlease join 101.3 The Jockey on Sunday\, October 19th for <b>The Empire Bridal Show</b> at the Fairways of Halfmoon!\n<p>\n</p><p>We will have over 40 of the top wedding professionals under one roof.   Free upscale buffet\, live music &amp\; <b>fabulous door prizes\,</b>&nbsp\;including: <br>\n<i>$800 Signature DJ Show Package</i> from Complete Music\, Video\, Photo<br>\n<i>Free Tuxedo Rental</i> from Men's Wearhouse<br>\n<i>Trip &amp\; Ring Voucher</i> from Bridal Registry\, Inc.<br>\n<i>Gift Basket by Mary Kay</i> - Brenda Tholin<br>\n<i>Free Tuxedo Rental</i> from Brides &amp\; More Boutique<br>\n<i>Free Pair of Women's Shoes</i> from Brides &amp\; More Boutique<br>\n<i>$100 off a Bridal Gown</i> from Brides &amp\; More Boutique</p><p>\n<b>Pre-register on 101.3 The Jockey's website and you're automatically entered to win a 3 Night Ski Vacation to Smugglers' Notch in Vermont!</b> </p>
LOCATION:The Fairways of Halfmoon
UID:e.2254.2035
SEQUENCE:3
DTSTAMP:20260424T123511Z
URL:https://chamber.saratoga.org/events/details/10-19-2014-10-19-2014-2035
END:VEVENT

END:VCALENDAR
