BEGIN:VCALENDAR
VERSION:2.0
PRODID:-//ChamberMaster//Event Calendar 2.0//EN
METHOD:PUBLISH
X-PUBLISHED-TTL:P3D
REFRESH-INTERVAL:P3D
CALSCALE:GREGORIAN
BEGIN:VEVENT
DTSTART:20141018T120000Z
DTEND:20141018T130000Z
X-MICROSOFT-CDO-ALLDAYEVENT:FALSE
SUMMARY:- 10/18/2014
DESCRIPTION:Pilates for a Purpose” is part of our Community Outreach Program.This is a 50 Minute Pilates Mat Class suitable for all levels.\n\nThere is no fee for the class. Donations will be accepted for a different non-profit organization each week. 100% of the donations will be given to the non-profit. Donations must be in the form of Cash or Check written out to the Non-Profit. No Credit Cards or funds from your reform account accepted for this class
X-ALT-DESC;FMTTYPE=text/html:<p>Pilates for a Purpose” is part of our Community Outreach Program.</p>This is a 50 Minute Pilates Mat Class suitable for all levels.<br><br>There is no fee for the class. Donations will be accepted for a different non-profit organization each week. 100% of the donations will be given to the non-profit. Donations must be in the form of Cash or Check written out to the Non-Profit. No Credit Cards or funds from your reform account accepted for this class
LOCATION:Reform. A True Pilates Studio
UID:e.2254.3986
SEQUENCE:3
DTSTAMP:20260424T110624Z
URL:https://chamber.saratoga.org/events/details/10-18-2014-10-18-2014-3986
END:VEVENT

END:VCALENDAR
