BEGIN:VCALENDAR
VERSION:2.0
PRODID:-//ChamberMaster//Event Calendar 2.0//EN
METHOD:PUBLISH
X-PUBLISHED-TTL:P3D
REFRESH-INTERVAL:P3D
CALSCALE:GREGORIAN
BEGIN:VEVENT
DTSTART:20141018T210000Z
DTEND:20141019T000000Z
X-MICROSOFT-CDO-ALLDAYEVENT:FALSE
SUMMARY:- 10/18/2014
DESCRIPTION:Adirondack Flames HockeySaturday Night is Hockey Night in Glens Falls. Return of the Phantoms.
X-ALT-DESC;FMTTYPE=text/html:<p> Adirondack Flames Hockey</p><p>Saturday Night is Hockey Night in Glens Falls. Return of the Phantoms.&nbsp\;</p>
LOCATION:Glens Falls Civic Center
UID:e.2254.2118
SEQUENCE:3
DTSTAMP:20260424T093043Z
URL:https://chamber.saratoga.org/events/details/10-18-2014-10-18-2014-2118
END:VEVENT

END:VCALENDAR
