BEGIN:VCALENDAR
VERSION:2.0
PRODID:-//ChamberMaster//Event Calendar 2.0//EN
METHOD:PUBLISH
X-PUBLISHED-TTL:P3D
REFRESH-INTERVAL:P3D
CALSCALE:GREGORIAN
BEGIN:VEVENT
DTSTART:20141018T123000Z
DTEND:20141018T140000Z
X-MICROSOFT-CDO-ALLDAYEVENT:FALSE
SUMMARY:- 10/18/2014
DESCRIPTION:Celebration Weekend Open Ballet Class\, Skidmore dancers participate in a high-intermediate level ballet technique classSkidmore dancers participate in a high-intermediate level ballet technique class\, led by professor Denise Warner Limoli and pianist Carol Ann Elze. 10:30 a.m.-Noon\, Skidmore College Dance Center\, Studio 1\n For more information call 518-580-5392
X-ALT-DESC;FMTTYPE=text/html:<p>Celebration Weekend Open Ballet Class\, Skidmore dancers participate in a high-intermediate level ballet technique class</p><p><span style="color: black\;">Skidmore dancers&nbsp\;participate in a high-intermediate level ballet technique class\, led by professor Denise Warner Limoli and pianist Carol Ann Elze.</span></p> <span style="font-size: 12pt\; font-family: Times New Roman\,serif\;">10:30 a.m.-Noon\, Skidmore College Dance Center\, Studio 1<br> For more information call 518-580-5392</span>
LOCATION:Skidmore College Dance Theater
UID:e.2254.2041
SEQUENCE:3
DTSTAMP:20260424T110537Z
URL:https://chamber.saratoga.org/events/details/10-18-2014-10-18-2014-2041
END:VEVENT

END:VCALENDAR
