BEGIN:VCALENDAR
VERSION:2.0
PRODID:-//ChamberMaster//Event Calendar 2.0//EN
METHOD:PUBLISH
X-PUBLISHED-TTL:P3D
REFRESH-INTERVAL:P3D
CALSCALE:GREGORIAN
BEGIN:VEVENT
DTSTART:20141018T140000Z
DTEND:20141018T153000Z
X-MICROSOFT-CDO-ALLDAYEVENT:FALSE
SUMMARY:- 10/18/2014
DESCRIPTION:Wanderful Graphic Alphabet ArtDrop in to make some Graphic Alphabet art using stamps and stencils\, inspired by Kate Rosen’s huge painting Wanderful! in I was a double.  No reservations required for this week’s program – come anytime between 12 and 1:30 and bring the whole family! Noon-1:30 p.m.-Tang MuseumFor more information call 518-580-8080
X-ALT-DESC;FMTTYPE=text/html:<p>Wanderful Graphic Alphabet Art</p><p>Drop in to make some Graphic Alphabet art using stamps and stencils\, inspired by Kate Rosen’s huge painting <em>Wanderful!</em> in<em> I was a double</em>.  No reservations required for this week’s program – come anytime between 12 and 1:30 and bring the whole family! <strong></strong></p><p>Noon-1:30 p.m.-Tang Museum</p><p>For more information call 518-580-8080</p><p><strong><br></strong></p>
LOCATION:Tang Museum\, Skidmore College
UID:e.2254.2034
SEQUENCE:3
DTSTAMP:20260424T110624Z
URL:https://chamber.saratoga.org/events/details/10-18-2014-10-18-2014-2034
END:VEVENT

END:VCALENDAR
