BEGIN:VCALENDAR
VERSION:2.0
PRODID:-//ChamberMaster//Event Calendar 2.0//EN
METHOD:PUBLISH
X-PUBLISHED-TTL:P3D
REFRESH-INTERVAL:P3D
CALSCALE:GREGORIAN
BEGIN:VEVENT
DTSTART:20141018T130000Z
DTEND:20141018T170000Z
X-MICROSOFT-CDO-ALLDAYEVENT:FALSE
SUMMARY:- 10/18/2014
DESCRIPTION:WALDORF SCHOOL AUTUMN FESTIVAL   color: rgb(34\, 34\, 34)\; font-family: arial\, sans-serif\; font-size: 13px\; line-height: normal\; background-color: rgb(255\, 255\, 255)\;">WALDORF SCHOOL AUTUMN FESTIVAL & OPEN HOUSESaturday\, October 1862 York AvenueSaratoga Springs\, NY 1286611:00 am –3:00 pmRAIN OR SHINE Admission Fees: $5.00 per person/$20.00 per family Puppet shows\, make-your-own jump rope\, face painting\, pumpkin creations\, felting\, cider pressing\, sheep shearing\, café and bake sale\, brick oven pizza\, storytelling\, felting\, corn husk dolls\, African drumming\, and so much more!! For more information contact: 587.2224/www.admissions@waldorfsaratoga.org
X-ALT-DESC;FMTTYPE=text/html:<p>WALDORF SCHOOL AUTUMN FESTIVAL & OPEN HOUSE</p><p class="MsoNormal" style="margin-bottom: 0px\; color: rgb(34\, 34\, 34)\; font-family: arial\, sans-serif\; font-size: 13px\; line-height: normal\; background-color: rgb(255\, 255\, 255)\;"><strong><span style="font-size: 12pt\; line-height: 18.8799991607666px\; font-family: Garamond\; color: windowtext\;">WALDORF SCHOOL AUTUMN FESTIVAL &amp\; OPEN HOUSE</span></strong></p><p class="MsoNormal" style="margin-bottom: 0px\; color: rgb(34\, 34\, 34)\; font-family: arial\, sans-serif\; font-size: 13px\; line-height: normal\; background-color: rgb(255\, 255\, 255)\;"><strong><span style="font-size: 12pt\; line-height: 18.8799991607666px\; font-family: Garamond\; color: windowtext\;">Saturday\, October 18</span></strong></p><p class="MsoNormal" style="margin-bottom: 0px\; color: rgb(34\, 34\, 34)\; font-family: arial\, sans-serif\; font-size: 13px\; line-height: normal\; background-color: rgb(255\, 255\, 255)\;"><strong><span style="font-size: 12pt\; line-height: 18.8799991607666px\; font-family: Garamond\; color: windowtext\;">62 York Avenue</span></strong></p><p class="MsoNormal" style="margin-bottom: 0px\; color: rgb(34\, 34\, 34)\; font-family: arial\, sans-serif\; font-size: 13px\; line-height: normal\; background-color: rgb(255\, 255\, 255)\;"><strong><span style="font-size: 12pt\; line-height: 18.8799991607666px\; font-family: Garamond\; color: windowtext\;">Saratoga Springs\, NY 12866</span></strong></p><p class="MsoNormal" style="margin-bottom: 0px\; color: rgb(34\, 34\, 34)\; font-family: arial\, sans-serif\; font-size: 13px\; line-height: normal\; background-color: rgb(255\, 255\, 255)\;"><strong><span style="font-size: 12pt\; line-height: 18.8799991607666px\; font-family: Garamond\; color: windowtext\;">11:00&nbsp\;<span style="font-variant: small-caps\;">am</span>&nbsp\;–3:00&nbsp\;<span style="font-variant: small-caps\;">pm</span></span></strong></p><p class="MsoNormal" style="margin-bottom: 0px\; color: rgb(34\, 34\, 34)\; font-family: arial\, sans-serif\; font-size: 13px\; line-height: normal\; background-color: rgb(255\, 255\, 255)\;"><strong><span style="font-size: 12pt\; line-height: 18.8799991607666px\; font-family: Garamond\; color: windowtext\;">RAIN OR SHINE</span></strong></p><p class="MsoNormal" align="center" style="margin-bottom: 0.0001pt\; color: rgb(34\, 34\, 34)\; font-family: arial\, sans-serif\; font-size: 13px\; line-height: normal\; text-align: center\; background-color: rgb(255\, 255\, 255)\;"><strong><span style="font-size: 12pt\; line-height: 18.8799991607666px\; font-family: Garamond\; color: windowtext\;">&nbsp\;</span></strong></p><p class="MsoNormal" style="margin-bottom: 0.0001pt\; color: rgb(34\, 34\, 34)\; font-family: arial\, sans-serif\; font-size: 13px\; line-height: normal\; background-color: rgb(255\, 255\, 255)\;"><strong><span style="font-size: 12pt\; line-height: 18.8799991607666px\; font-family: Garamond\; color: windowtext\;">Admission Fees: $5.00 per person/$20.00 per family</span></strong></p><p class="MsoNormal" style="margin-bottom: 0.0001pt\; color: rgb(34\, 34\, 34)\; font-family: arial\, sans-serif\; font-size: 13px\; line-height: normal\; background-color: rgb(255\, 255\, 255)\;"><strong><span style="font-size: 12pt\; line-height: 18.8799991607666px\; font-family: Garamond\; color: windowtext\;">&nbsp\;</span></strong></p><p class="MsoNormal" style="margin-bottom: 0.0001pt\; color: rgb(34\, 34\, 34)\; font-family: arial\, sans-serif\; font-size: 13px\; line-height: normal\; background-color: rgb(255\, 255\, 255)\;"><strong><span style="font-size: 12pt\; line-height: 18.8799991607666px\; font-family: Garamond\; color: windowtext\;">Puppet shows\, make-your-own jump rope\, face painting\, pumpkin creations\, felting\, cider pressing\, sheep shearing\, café and bake sale\, brick oven pizza\, storytelling\, felting\, corn husk dolls\, African drumming\, and so much more!!</span></strong></p><p class="MsoNormal" style="margin-bottom: 0px\; color: rgb(34\, 34\, 34)\; font-family: arial\, sans-serif\; font-size: 13px\; line-height: normal\; background-color: rgb(255\, 255\, 255)\;"><strong><span style="font-size: 12pt\; line-height: 18.8799991607666px\; font-family: Garamond\; color: windowtext\;">&nbsp\;</span></strong></p><p class="MsoNormal" style="margin-bottom: 0px\; color: rgb(34\, 34\, 34)\; font-family: arial\, sans-serif\; font-size: 13px\; line-height: normal\; background-color: rgb(255\, 255\, 255)\;"><strong><span style="font-size: 12pt\; line-height: 18.8799991607666px\; font-family: Garamond\; color: windowtext\;">For more information contact: 587.2224/<a href="mailto:www.admissions@waldorfsaratoga.org" target="_blank" style="color: rgb(17\, 85\, 204)\;">www.admissions@<wbr>waldorfsaratoga.org</a></span></strong></p><br>
LOCATION:Waldorf School of Saratoga Springs
UID:e.2254.2018
SEQUENCE:3
DTSTAMP:20260424T123441Z
URL:https://chamber.saratoga.org/events/details/10-18-2014-10-18-2014-2018
END:VEVENT

END:VCALENDAR
