BEGIN:VCALENDAR
VERSION:2.0
PRODID:-//ChamberMaster//Event Calendar 2.0//EN
METHOD:PUBLISH
X-PUBLISHED-TTL:P3D
REFRESH-INTERVAL:P3D
CALSCALE:GREGORIAN
BEGIN:VEVENT
DTSTART:20141018T200000Z
DTEND:20141018T230000Z
X-MICROSOFT-CDO-ALLDAYEVENT:FALSE
SUMMARY:- 10/18/2014
DESCRIPTION:Candlelight Tour of Schuyler HouseFeel the welcome of the warm\, soft glow of candlelight as Old Saratoga Historical Association members\, park staff and volunteers guide visitors on short tours through General Philip Schuyler’s 1777 country house. Light refreshments and period music follow the tours.
X-ALT-DESC;FMTTYPE=text/html:<p>Candlelight Tour of Schuyler House</p>Feel the welcome of the warm\, soft glow of candlelight as Old Saratoga Historical Association members\, park staff and volunteers guide visitors on short tours through General Philip Schuyler’s 1777 country house. Light refreshments and period music follow the tours.
LOCATION:Schuyler House
UID:e.2254.1127
SEQUENCE:3
DTSTAMP:20260424T110447Z
URL:https://chamber.saratoga.org/events/details/10-18-2014-10-18-2014-1127
END:VEVENT

END:VCALENDAR
