BEGIN:VCALENDAR
VERSION:2.0
PRODID:-//ChamberMaster//Event Calendar 2.0//EN
METHOD:PUBLISH
X-PUBLISHED-TTL:P3D
REFRESH-INTERVAL:P3D
CALSCALE:GREGORIAN
BEGIN:VEVENT
DTSTART:20141017T120000Z
DTEND:20141017T130000Z
X-MICROSOFT-CDO-ALLDAYEVENT:FALSE
SUMMARY:- 10/17/2014
DESCRIPTION:Commemoration of British Surrender of 1777Witness the recreated surrender of British General John Burgoyne to American General Gates\, sing patriotic songs with Schuylerville school children and drink 13 original toasts to the American Victory.  Sponsored by the Village of Schuylerville and Town of Saratoga.
X-ALT-DESC;FMTTYPE=text/html:<p>Commemoration of British Surrender of 1777</p><p>Witness the recreated surrender of British General John Burgoyne to American General Gates\, sing patriotic songs with Schuylerville school children and drink 13 original toasts to the American Victory.&nbsp\; Sponsored by the Village of Schuylerville and Town of Saratoga.</p>
LOCATION:Fort Hardy Park
UID:e.2254.3495
SEQUENCE:3
DTSTAMP:20260424T110715Z
URL:https://chamber.saratoga.org/events/details/10-17-2014-10-17-2014-3495
END:VEVENT

END:VCALENDAR
