BEGIN:VCALENDAR
VERSION:2.0
PRODID:-//ChamberMaster//Event Calendar 2.0//EN
METHOD:PUBLISH
X-PUBLISHED-TTL:P3D
REFRESH-INTERVAL:P3D
CALSCALE:GREGORIAN
BEGIN:VEVENT
DTSTART:20141017T220000Z
DTEND:20141017T233000Z
X-MICROSOFT-CDO-ALLDAYEVENT:FALSE
SUMMARY:- 10/17/2014
DESCRIPTION:Carnegie Hall Premieres Concert featuring Ensemble ACJW\, fellows of The AcademyConcert featuring Ensemble ACJW\, fellows of The Academy–a program of Carnegie Hall\, the Juilliard School\, and the Weill Music Institute. Pre-concert talk with composer David Lang at 7 p.m. 8 p.m.-Arthur Zankel Music Center\, Ladd Concert Hall $8 adults\, $5 senior citizens and Skidmore community\; free for students and children For ticket information call 518-580-5321 or go to www.skidmore.edu/Zankel
X-ALT-DESC;FMTTYPE=text/html:<p>Carnegie Hall Premieres Concert featuring Ensemble ACJW\, fellows of The Academy</p><p>Concert featuring Ensemble ACJW\, fellows of The Academy–a program of Carnegie Hall\, the Juilliard School\, and the Weill Music Institute. Pre-concert talk with composer David Lang at 7 p.m.</p> <p>8 p.m.-Arthur Zankel Music Center\, Ladd Concert Hall</p> <p>$8 adults\, $5 senior citizens and Skidmore <span style="color: black\;">community\; free for students and children</span></p> <span style="font-size: 12pt\; font-family: Times New Roman\,serif\;">For ticket information call 518-580-5321 or go to <a href="http://www.skidmore.edu/Zankel">www.skidmore.edu/Zankel</a></span>
LOCATION:Arthur Zankel Music Center\, Skidmore College
UID:e.2254.2040
SEQUENCE:3
DTSTAMP:20260424T110624Z
URL:https://chamber.saratoga.org/events/details/10-17-2014-10-17-2014-2040
END:VEVENT

END:VCALENDAR
