BEGIN:VCALENDAR
VERSION:2.0
PRODID:-//ChamberMaster//Event Calendar 2.0//EN
METHOD:PUBLISH
X-PUBLISHED-TTL:P3D
REFRESH-INTERVAL:P3D
CALSCALE:GREGORIAN
BEGIN:VEVENT
DTSTART:20141016T210000Z
DTEND:20141017T000000Z
X-MICROSOFT-CDO-ALLDAYEVENT:FALSE
SUMMARY:- 10/16/2014
DESCRIPTION:Adirondack Flames HockeyBosses Day\, in association with the Saratoga County Chamber of Commerce.  All bosses from chamber member organizations will receive a free ticket\, courtesy of the chamber and all chamber member company employees can purchase a discounted $15 ticket. Healthcare Appreciation Night. All employees of healthcare organizations receive a $15 ticket to the game as well as a buy one\, get one free special.
X-ALT-DESC;FMTTYPE=text/html:<p>Adirondack Flames Hockey</p><p style="font-family: Arial\, Helvetica\, sans-serif\; font-size: 16px\; line-height: normal\; background-color: rgb(255\, 255\, 255)\;">Bosses Day\, in association with the Saratoga County Chamber of Commerce. &nbsp\;All bosses from chamber member organizations will receive a free ticket\, courtesy of the chamber and all chamber member company employees can purchase a discounted $15 ticket.&nbsp\;</p><p style="font-family: Arial\, Helvetica\, sans-serif\; font-size: 16px\; line-height: normal\; background-color: rgb(255\, 255\, 255)\;">Healthcare Appreciation Night. All employees of healthcare organizations receive a $15 ticket to the game as well as a buy one\, get one free special.&nbsp\;</p>
LOCATION:Glens Falls Civic Center
UID:e.2254.2117
SEQUENCE:3
DTSTAMP:20260424T110457Z
URL:https://chamber.saratoga.org/events/details/10-16-2014-10-16-2014-2117
END:VEVENT

END:VCALENDAR
