BEGIN:VCALENDAR
VERSION:2.0
PRODID:-//ChamberMaster//Event Calendar 2.0//EN
METHOD:PUBLISH
X-PUBLISHED-TTL:P3D
REFRESH-INTERVAL:P3D
CALSCALE:GREGORIAN
BEGIN:VEVENT
DTSTART:20141017T020000Z
DTEND:20141018T020000Z
X-MICROSOFT-CDO-ALLDAYEVENT:FALSE
SUMMARY:- 10/16/2014
DESCRIPTION:Fall Consignment Sale - Kids' Fall/Winter Clothes\, Toys\, and More! Friday 3-8\, Saturday 9-1 Open to the Public\n\nKT\nSchool will host its annual Fall Consignment Sale October 17th and\n18th at the American Legion in Saratoga Springs. Items for sale include\nChildren’s Fall/Winter clothing (sizes infant to size 10)\, Kids’ gear (car\nseats\, strollers\, high chairs\, etc.)\, Furniture (cribs\, toddler beds\, changing\ntables\, etc.)\, Kids sports equipment\, Tricycles/Bikes and small play equipment\,\nToys\, Puzzles and Games\, Kids’ Books and DVDs\, and Maternity and nursing wear.\n\n \n\nThe\nAmerican Legion is located at 34 West Avenue in Saratoga Springs. There is a\nPre-sale on Friday\, October 17th from 12-3pm\, and Pre-Sale Passes\nare available at the door for $10 each.  The Public Sale takes place Friday from\n3-8pm. Saturday’s Half-price Sale is on Saturday from 9am-1pm\, and is open to\nthe public.  Proceeds will benefit Katrina Trask Cooperative Nursery School\, a\nnon- profit organization. For more information please email ktconsignmentsale@yahoo.com or\nvisit www.ktnurseryschool.org.Katrina Trask Cooperative Nursery
X-ALT-DESC;FMTTYPE=text/html:<p>Fall Consignment Sale - Kids' Fall/Winter Clothes\, Toys\, and More! Friday 3-8\, Saturday 9-1 Open to the Public</p><font size="3" face="Times New Roman">\n\n</font><p style="margin: 0in 0in 0pt\;" class="MsoNormal"><span style="font-size: 14pt\; mso-bidi-font-family: Ayuthaya\;"><font face="Cambria">KT\nSchool will host its annual Fall Consignment Sale October 17<sup>th</sup> and\n18<sup>th</sup> at the American Legion in Saratoga Springs. Items for sale include\nChildren’s Fall/Winter clothing (sizes infant to size 10)\, Kids’ gear (car\nseats\, strollers\, high chairs\, etc.)\, Furniture (cribs\, toddler beds\, changing\ntables\, etc.)\, Kids sports equipment\, Tricycles/Bikes and small play equipment\,\nToys\, Puzzles and Games\, Kids’ Books and DVDs\, and Maternity and nursing wear.<o:p></o:p></font></span></p><font size="3" face="Times New Roman">\n\n</font><p style="margin: 0in 0in 0pt\;" class="MsoNormal"><span style="font-size: 14pt\; mso-bidi-font-family: Ayuthaya\;"><o:p><font size="5" face="Cambria">&nbsp\;</font></o:p></span></p><font size="3" face="Times New Roman">\n\n</font><p style="margin: 0in 0in 0pt\;" class="MsoNormal"><span style="font-size: 14pt\; mso-bidi-font-family: Ayuthaya\;"><font face="Cambria">The\nAmerican Legion is located at 34 West Avenue in Saratoga Springs. There is a\nPre-sale on Friday\, October 17<sup>th</sup> from 12-3pm\, and Pre-Sale Passes\nare available at the door for $10 each. </font></span></p><p style="margin: 0in 0in 0pt\;" class="MsoNormal"><span style="font-size: 14pt\; mso-bidi-font-family: Ayuthaya\;"><font face="Cambria"></font></span>&nbsp\;</p><p style="margin: 0in 0in 0pt\;" class="MsoNormal"><span style="font-size: 14pt\; mso-bidi-font-family: Ayuthaya\;"><font face="Cambria">The Public Sale takes place Friday from\n3-8pm. Saturday’s Half-price Sale is on Saturday from 9am-1pm\, and is open to\nthe public. </font></span></p><p style="margin: 0in 0in 0pt\;" class="MsoNormal"><span style="font-size: 14pt\; mso-bidi-font-family: Ayuthaya\;"><font face="Cambria"></font></span>&nbsp\;</p><p style="margin: 0in 0in 0pt\;" class="MsoNormal"><span style="font-size: 14pt\; mso-bidi-font-family: Ayuthaya\;"><font face="Cambria">Proceeds will benefit Katrina Trask Cooperative Nursery School\, a\nnon- profit organization.</font></span></p><p style="margin: 0in 0in 0pt\;" class="MsoNormal"><span style="font-size: 14pt\; mso-bidi-font-family: Ayuthaya\;"><font face="Cambria"></font></span>&nbsp\;</p><p style="margin: 0in 0in 0pt\;" class="MsoNormal"><span style="font-size: 14pt\; mso-bidi-font-family: Ayuthaya\;"><font face="Cambria"><span style='font-family: "Cambria"\,"serif"\; font-size: 14pt\; mso-bidi-font-family: Ayuthaya\; mso-ascii-theme-font: minor-latin\; mso-fareast-font-family: "Times New Roman"\; mso-fareast-theme-font: minor-fareast\; mso-hansi-theme-font: minor-latin\; mso-ansi-language: EN-US\; mso-fareast-language: EN-US\; mso-bidi-language: AR-SA\;'>For more information please email </span><span style='font-family: "Cambria"\,"serif"\; font-size: 12pt\; mso-bidi-font-family: "Times New Roman"\; mso-ascii-theme-font: minor-latin\; mso-fareast-font-family: "Times New Roman"\; mso-fareast-theme-font: minor-fareast\; mso-hansi-theme-font: minor-latin\; mso-bidi-theme-font: minor-bidi\; mso-ansi-language: EN-US\; mso-fareast-language: EN-US\; mso-bidi-language: AR-SA\;'><a href="mailto:ktconsignmentsale@yahoo.com"><span style="font-size: 14pt\; mso-bidi-font-family: Ayuthaya\;"><font color="#0000ff">ktconsignmentsale@yahoo.com</font></span></a></span><span style='font-family: "Cambria"\,"serif"\; font-size: 14pt\; mso-bidi-font-family: Ayuthaya\; mso-ascii-theme-font: minor-latin\; mso-fareast-font-family: "Times New Roman"\; mso-fareast-theme-font: minor-fareast\; mso-hansi-theme-font: minor-latin\; mso-ansi-language: EN-US\; mso-fareast-language: EN-US\; mso-bidi-language: AR-SA\;'> or\nvisit </span><span style='font-family: "Cambria"\,"serif"\; font-size: 12pt\; mso-bidi-font-family: "Times New Roman"\; mso-ascii-theme-font: minor-latin\; mso-fareast-font-family: "Times New Roman"\; mso-fareast-theme-font: minor-fareast\; mso-hansi-theme-font: minor-latin\; mso-bidi-theme-font: minor-bidi\; mso-ansi-language: EN-US\; mso-fareast-language: EN-US\; mso-bidi-language: AR-SA\;'><a href="http://www.ktnurseryschool.org/"><span style="font-size: 14pt\; mso-bidi-font-family: Ayuthaya\;"><font color="#0000ff">www.ktnurseryschool.org</font></span></a></span><span style='font-family: "Cambria"\,"serif"\; font-size: 14pt\; mso-bidi-font-family: Ayuthaya\; mso-ascii-theme-font: minor-latin\; mso-fareast-font-family: "Times New Roman"\; mso-fareast-theme-font: minor-fareast\; mso-hansi-theme-font: minor-latin\; mso-ansi-language: EN-US\; mso-fareast-language: EN-US\; mso-bidi-language: AR-SA\;'>.Katrina Trask Cooperative Nursery </span><o:p></o:p></font></span></p><font size="3" face="Times New Roman">\n\n</font>
LOCATION:American Legion
UID:e.2254.2104
SEQUENCE:3
DTSTAMP:20260424T110446Z
URL:https://chamber.saratoga.org/events/details/10-16-2014-10-16-2014-2104
END:VEVENT

END:VCALENDAR
