BEGIN:VCALENDAR
VERSION:2.0
PRODID:-//ChamberMaster//Event Calendar 2.0//EN
METHOD:PUBLISH
X-PUBLISHED-TTL:P3D
REFRESH-INTERVAL:P3D
CALSCALE:GREGORIAN
BEGIN:VEVENT
DTSTART:20141016T140000Z
DTEND:20141016T150000Z
X-MICROSOFT-CDO-ALLDAYEVENT:FALSE
SUMMARY:- 10/16/2014
DESCRIPTION:Lunchtime tour   font-family: Calibri\, sans-serif\;">Lunchtime tour and discussion.  All American! Take a brief tour of the new exhibition Picturing America: Signature Works from the Westmoreland Museum of American Art with curator of education June Leary\, followed by time for lunch (bring a bag lunch) and discussion in the auditorium.
X-ALT-DESC;FMTTYPE=text/html:<p>Lunchtime tour & discussion</p><span style="font-size: 11pt\; font-family: Calibri\, sans-serif\;">Lunchtime tour and discussion.&nbsp\; All American! Take a brief tour of the new exhibition <em>Picturing America: Signature Works from the Westmoreland Museum of American Art </em>with curator of education June Leary\, followed by time for lunch (bring a bag lunch) and discussion in the auditorium.</span><br>
LOCATION:The Hyde Collection Art Museum
UID:e.2254.2092
SEQUENCE:3
DTSTAMP:20260424T110536Z
URL:https://chamber.saratoga.org/events/details/10-16-2014-10-16-2014-2092
END:VEVENT

END:VCALENDAR
