BEGIN:VCALENDAR
VERSION:2.0
PRODID:-//ChamberMaster//Event Calendar 2.0//EN
METHOD:PUBLISH
X-PUBLISHED-TTL:P3D
REFRESH-INTERVAL:P3D
CALSCALE:GREGORIAN
BEGIN:VEVENT
DTSTART:20141016T220000Z
DTEND:20141017T000000Z
X-MICROSOFT-CDO-ALLDAYEVENT:FALSE
SUMMARY:- 10/16/2014
DESCRIPTION:Skidmore Theater: Dancing At Luhgnasa All shows at 8 p.m. except Sunday matinee at 2 p.m.The Skidmore Theater Department presents a production of Dancing At Luhgnasa by Brian Friel\, directed by Marie Glotzbach All shows at 8 p.m. except Sunday matinee at 2 p.m. Bernhard Theater\, Black-box $12 general admission\, $8 students and senior citizens For more information call 518-580-5439
X-ALT-DESC;FMTTYPE=text/html:<p>Skidmore Theater: Dancing At Luhgnasa All shows at 8 p.m. except Sunday matinee at 2 p.m.</p><p>The Skidmore Theater Department presents a production of <em>Dancing At Luhgnasa</em> by Brian Friel\, directed by Marie Glotzbach</p> <p>All shows at 8 p.m. except Sunday matinee at 2 p.m.</p> <p>Bernhard Theater\, Black-box</p> <p>$12 general admission\, $8 students and senior citizens</p> <span style="font-size: 12pt\; font-family: Times New Roman\,serif\;">For more information call 518-580-5439</span>
LOCATION:Bernhard Theater\, Skidmore College
UID:e.2254.2039
SEQUENCE:3
DTSTAMP:20260424T110624Z
URL:https://chamber.saratoga.org/events/details/10-16-2014-10-16-2014-2039
END:VEVENT

END:VCALENDAR
