BEGIN:VCALENDAR
VERSION:2.0
PRODID:-//ChamberMaster//Event Calendar 2.0//EN
METHOD:PUBLISH
X-PUBLISHED-TTL:P3D
REFRESH-INTERVAL:P3D
CALSCALE:GREGORIAN
BEGIN:VEVENT
DTSTART:20141016T200000Z
DTEND:20141016T223000Z
X-MICROSOFT-CDO-ALLDAYEVENT:FALSE
SUMMARY:- 10/16/2014
DESCRIPTION:Community Hospice of Saratoga annual fundraiser.This year's elegant "Touched by an Angel" event is scheduled for Thursday\, October 16th at The National Museum of Dance in Saratoga Springs\, from 6 - 8:30 p.m. This popular hospice benefit is an outstanding cocktail party\, and is the place to be seen after the track has closed for the season\, and life in the Spa City has returned to normal.  This benefit is the talk of the town and 500 locals and politicians consider it to be the best party in Saratoga Springs!  It caters to all folks in the community and capital district. If you wish to promote your business\, then this is the event for walking\, talking\, and successfully networking.  With 20 elegant food stations\, 2 complimentary champagne and Saratoga Water stations\, one cash bar and assorted past hors d'oeuvres\, you never go home hungry!    Our popular Memory Tree table will be filled with delightful holiday ornaments.  The Saratoga Photobooth will once again host its nostalgic photobooth where you can take home a free memorable event photo.  Without a doubt this party is a sure winner\, and we hope that you can join us as we support important Hospice patient and family programs and services.  For information\, call 581-0800.
X-ALT-DESC;FMTTYPE=text/html:<p>Community Hospice of Saratoga annual fundraiser.</p><p>This year's elegant "Touched by an Angel" event is scheduled for Thursday\, October 16th at The National Museum of Dance in Saratoga Springs\, from 6 - 8:30 p.m. This popular hospice benefit is an outstanding cocktail party\, and is the place to be seen after the track has closed for the season\, and life in the Spa City has returned to normal.&nbsp\; This benefit is the talk of the town and 500 locals and politicians consider it to be the best party in Saratoga Springs!&nbsp\; It caters to all folks in the community and capital district. If you wish to promote your business\, then this is the event for walking\, talking\, and successfully networking.&nbsp\;&nbsp\;With 20 elegant food stations\, 2 complimentary champagne and Saratoga Water stations\, one cash bar and assorted past hors d'oeuvres\, you never go home hungry!&nbsp\;&nbsp\;&nbsp\; Our popular Memory Tree table will be filled with delightful holiday ornaments.&nbsp\; The Saratoga Photobooth will once again&nbsp\;host its nostalgic photobooth where you can take home a free memorable event photo.&nbsp\; Without a doubt this party is a sure winner\, and we hope that you can join us as we support important Hospice patient&nbsp\;and family&nbsp\;programs and services.&nbsp\; For information\, call 581-0800.</p>
LOCATION:The National Museum of Dance
UID:e.2254.1243
SEQUENCE:3
DTSTAMP:20260424T110718Z
URL:https://chamber.saratoga.org/events/details/10-16-2014-10-16-2014-1243
END:VEVENT

END:VCALENDAR
