BEGIN:VCALENDAR
VERSION:2.0
PRODID:-//ChamberMaster//Event Calendar 2.0//EN
METHOD:PUBLISH
X-PUBLISHED-TTL:P3D
REFRESH-INTERVAL:P3D
CALSCALE:GREGORIAN
BEGIN:VEVENT
DTSTART:20141013T120000Z
DTEND:20141013T180000Z
X-MICROSOFT-CDO-ALLDAYEVENT:FALSE
SUMMARY:- 10/13/2014
DESCRIPTION:Times Union Job FairMonday\, October 13th 2014\n\n10am-4pm\n\nALBANY MARRIOTT\, 189 WOLF ROAD\, \nCOLONIE\n\nLARGEST JOB FAIR IN THE CAPITAL REGION\n\nTOP \nEMPLOYERS READY TO HIRE!\n\nBRING COPIES OF YOUR RESUME AND DRESS FOR \nSUCCESS!\n\nCome to \nthe area's biggest and best Job Fair.\n\nMeet Face-to-Face with Employers Who Are Looking to Hire \nYOU!\n\nFor more info and a complete list of attending \ncompanies\, \nplease visit our website at \nhttp://web.timesunion.com/jobs/jobfair/\n\nEMPLOYERS \n- To Reserve your booth\, contact Erin Rosa at \n518-454-5493 or \nerosa@timesunion.com
X-ALT-DESC;FMTTYPE=text/html:<p>Times Union Job Fair</p><div align="center"><strong><font size="3">Monday\, October 13th 2014</font></strong><br><strong></strong><br><strong><font size="3">10am-4pm</font></strong><br><strong></strong><br><strong><font size="3">ALBANY MARRIOTT\, 189&nbsp\;WOLF ROAD\, \nCOLONIE</font></strong><br><strong></strong><br><strong></strong><font style="FONT-SIZE: 14px" color="#7030a0"><strong>LARGEST JOB FAIR IN THE CAPITAL REGION</strong></font><br><font style="FONT-SIZE: 14px" color="#7030a0"><strong></strong></font><br><font style="FONT-SIZE: 14px" color="#7030a0"><strong>TOP \nEMPLOYERS READY TO HIRE!</strong></font><br><font style="FONT-SIZE: 14px" color="#7030a0"><strong></strong></font><br><font style="FONT-SIZE: 14px" color="#7030a0"><strong>BRING COPIES OF YOUR RESUME AND DRESS FOR \nSUCCESS!</strong></font><br><font style="FONT-SIZE: 14px" color="#7030a0"><strong></strong></font><br><font style="FONT-SIZE: 14px"><strong>Come to \nthe area's biggest and best Job Fair.</strong></font><br><font style="FONT-SIZE: 14px"><strong></strong></font><br><font style="FONT-SIZE: 14px"><strong><font style="FONT-SIZE: 16px"><font color="#00b050">Meet Face-to-Face with Employers Who Are Looking to Hire \nYOU!</font></font></strong></font><br><font style="FONT-SIZE: 14px"><strong></strong></font><br><font style="FONT-SIZE: 14px"><strong>For more info and a&nbsp\;complete list of attending \ncompanies\, </strong></font><br><font style="FONT-SIZE: 14px"><strong>please visit our website at </strong></font><br><font style="FONT-SIZE: 14px"><strong><a href="#"><font color="#0161b2">http://web.timesunion.com/jobs/jobfair/</font></a></strong></font><br><font style="FONT-SIZE: 14px"><strong></strong></font><br><font style="FONT-SIZE: 14px"><strong>EMPLOYERS \n- To Reserve your booth\, contact Erin Rosa at </strong></font><br><font style="FONT-SIZE: 14px"><strong>518-454-5493 or \n</strong></font><a href="#"><font style="FONT-SIZE: 14px" color="#0161b2"><strong>erosa@timesunion.com</strong></font></a><br></div>
LOCATION:Marriott Hotel
UID:e.2254.2016
SEQUENCE:3
DTSTAMP:20260424T104301Z
URL:https://chamber.saratoga.org/events/details/10-13-2014-10-13-2014-2016
END:VEVENT

END:VCALENDAR
