BEGIN:VCALENDAR
VERSION:2.0
PRODID:-//ChamberMaster//Event Calendar 2.0//EN
METHOD:PUBLISH
X-PUBLISHED-TTL:P3D
REFRESH-INTERVAL:P3D
CALSCALE:GREGORIAN
BEGIN:VEVENT
DTSTART:20141012T120000Z
DTEND:20141012T150000Z
X-MICROSOFT-CDO-ALLDAYEVENT:FALSE
SUMMARY:- 10/12/2014
DESCRIPTION:The 4th annual Catwalk for Kidneys fashion show will return to Saratoga on Sunday October 12. This event is a yearly favorite\, featuring the very best of Saratoga fashion\, fabulous brunch\, vendors\, and a Catwalk that tells a story! Each model featured in the show has a connection to kidney disease or organ donation. They are patients\, family members\, donor families\, living donors\, clinical and academic professionals\, all coming together to educate about kidney disease and raise funds for local patient and community services.
X-ALT-DESC;FMTTYPE=text/html:<p>The 4th annual Catwalk for Kidneys fashion show will return to Saratoga on Sunday October 12. </p><p style="margin: 0in 0in 10pt\;"><span style="line-height: 115%\; font-family: Times New Roman\,serif\; font-size: 10pt\;">This event is a yearly favorite\, featuring the very best of Saratoga fashion\, fabulous brunch\, vendors\, and a Catwalk that tells a story! Each model featured in the show has a connection to kidney disease or organ donation. They are patients\, family members\, donor families\, living donors\, clinical and academic professionals\, all coming together to educate about kidney disease and raise funds for local patient and community services.</span></p>
LOCATION:Holiday Inn\, Saratoga Springs\, NY
UID:e.2254.3349
SEQUENCE:3
DTSTAMP:20260424T123510Z
URL:https://chamber.saratoga.org/events/details/10-12-2014-10-12-2014-3349
END:VEVENT

END:VCALENDAR
