BEGIN:VCALENDAR
VERSION:2.0
PRODID:-//ChamberMaster//Event Calendar 2.0//EN
METHOD:PUBLISH
X-PUBLISHED-TTL:P3D
REFRESH-INTERVAL:P3D
CALSCALE:GREGORIAN
BEGIN:VEVENT
DTSTART:20141012T160000Z
DTEND:20141012T180000Z
X-MICROSOFT-CDO-ALLDAYEVENT:FALSE
SUMMARY:- 10/12/2014
DESCRIPTION:Professional theatre at the National Museum of DanceA drunken beggar wakes up to find himself a lord and husband and an audience member at a play about an uncontrollable shrew. Before long\, he finds himself inside the world of the play wooing the wild Kate. Traditionally presented as Shakespeare's "Battle of the Sexes\," ADK Shakespeare is excited to take a brand new look at this play by embracing its self-conscious theatricality and turning the tables on how we see this story.
X-ALT-DESC;FMTTYPE=text/html:<p>Professional theatre at the National Museum of Dance</p><p><span style="color: rgb(20\, 24\, 35)\; font-family: Helvetica\, Arial\, 'lucida grande'\, tahoma\, verdana\, arial\, sans-serif\; font-size: 14px\; line-height: 17px\; ">A drunken beggar wakes up to find himself a lord and husband and an audience member at a play about an uncontrollable shrew. Before long\, he finds himself inside the world of the play wooing the wild Kate. Traditionally presented as Shakespeare's "Battle of the Sexes\," ADK Shakespeare is excited to take a brand new look at this play by embracing its self-conscious theatricality and turning the tables on how we see this story.</span></p>
LOCATION:National Museum of Dance
UID:e.2254.2063
SEQUENCE:3
DTSTAMP:20260424T110656Z
URL:https://chamber.saratoga.org/events/details/10-12-2014-10-12-2014-2063
END:VEVENT

END:VCALENDAR
