BEGIN:VCALENDAR
VERSION:2.0
PRODID:-//ChamberMaster//Event Calendar 2.0//EN
METHOD:PUBLISH
X-PUBLISHED-TTL:P3D
REFRESH-INTERVAL:P3D
CALSCALE:GREGORIAN
BEGIN:VEVENT
DTSTART:20141012T170000Z
DTEND:20141012T210000Z
X-MICROSOFT-CDO-ALLDAYEVENT:FALSE
SUMMARY:- 10/12/2014
DESCRIPTION:All Four DZ Restaurants   Chefs\n • Full Open Bar\n • Multiple Food\, Beer\, & Wine Stations\n • Guided Property Tours\n • Fire Pit & Gourmet S’mores\n • Champagne Toast Upon Arrival\n • Valet Parking Tickets for Meet the Chefs of DZ Restaurants at The DZ Farm event are limited and can only be purchased at a DZ Restaurant or by calling 518-583-1142. An Event to Benefit The Adult and Senior Center of Saratoga
X-ALT-DESC;FMTTYPE=text/html:<p>All Four DZ Restaurants & Chefs - Full Open Bar - Multiple Food\, Beer\, & Wine Stations</p><p>Spend a memorable Sunday afternoon in an idyllic Autumn setting for an intimate event staged under nature’s canopy and presented in a casually elegant style.</p> <p>Visit the open bar in the agrestic horse barn before touring the grounds or walking the trails that wind throughout the property.</p> <p>Fill your plates and your hearts at our Chef’s Tasting Stations and enjoy your meal sitting at a rustic farm table or standing at a vintage whiskey barrel high-top.</p> <p>Warm yourself in the glow of the field stone fire pit\, the harvest sunset\, and the ever-present gift of family and friendship.<br> <br> • All-Inclusive Event<br> • All Four DZ Restaurants &amp\; Chefs<br> • Full Open Bar<br> • Multiple Food\, Beer\, &amp\; Wine Stations<br> • Guided Property Tours<br> • Fire Pit &amp\; Gourmet S’mores<br> • Champagne Toast Upon Arrival<br> • Valet Parking</p> <p>Tickets for Meet the Chefs of DZ Restaurants at The DZ Farm event are limited and can only be purchased at a DZ Restaurant or by calling 518-583-1142.</p> <p>An Event to Benefit The Adult and Senior Center of Saratoga</p>
LOCATION:The DZ Farm
UID:e.2254.2056
SEQUENCE:3
DTSTAMP:20260424T093200Z
URL:https://chamber.saratoga.org/events/details/10-12-2014-10-12-2014-2056
END:VEVENT

END:VCALENDAR
