BEGIN:VCALENDAR
VERSION:2.0
PRODID:-//ChamberMaster//Event Calendar 2.0//EN
METHOD:PUBLISH
X-PUBLISHED-TTL:P3D
REFRESH-INTERVAL:P3D
CALSCALE:GREGORIAN
BEGIN:VEVENT
DTSTART:20141012T110000Z
DTEND:20141012T180000Z
X-MICROSOFT-CDO-ALLDAYEVENT:FALSE
SUMMARY:- 10/12/2014
DESCRIPTION:12th Annual Car show takes place in historic downtown Ballston SpaMark your calendars for the 12th annual "The Way\n We Were" Car Show\, Sunday\, October 12\, 9 am-4 pm.  Stroll the historic \nVillage of  Ballston Spa's Front Street from one end to the other\, while\n checking out a wide variety of cars and trucks and enjoying outdoor \nbarbecues\, vendors\, and music. Front Street will be blocked off from \nMilton Avenue past the Old Iron Springs to accommodate car exhibits and \nvendors.  In the past\, this event has attracted hundreds of display \nvehicles and thousands of automobile aficionados from all over the \nregion. This is one of the few local judged shows and several trophies \nwill be awarded. The event is free to spectators.  Exhibitors will be \nable to pre-register by 10/1/14 for $10.00 per car or $15.00 the day of \nshow. All proceeds will benefit community activities sponsored by the \nBSBPA. Rain date for this event is October 19.
X-ALT-DESC;FMTTYPE=text/html:<p>12th Annual Car show takes place in historic downtown Ballston Spa</p><span class="EventText">Mark your calendars for the 12th annual "The Way\n We Were" Car Show\, Sunday\, October 12\, 9 am-4 pm.  Stroll the historic \nVillage of  Ballston Spa's Front Street from one end to the other\, while\n checking out a wide variety of cars and trucks and enjoying outdoor \nbarbecues\, vendors\, and music. Front Street will be blocked off from \nMilton Avenue past the Old Iron Springs to accommodate car exhibits and \nvendors.  In the past\, this event has attracted hundreds of display \nvehicles and thousands of automobile aficionados from all over the \nregion. This is one of the few local judged shows and several trophies \nwill be awarded. The event is free to spectators.  Exhibitors will be \nable to pre-register by 10/1/14 for $10.00 per car or $15.00 the day of \nshow. All proceeds will benefit community activities sponsored by the \nBSBPA. Rain date for this event is October 19. </span>
LOCATION:Village of Ballston Spa
UID:e.2254.2015
SEQUENCE:3
DTSTAMP:20260424T104222Z
URL:https://chamber.saratoga.org/events/details/10-12-2014-10-12-2014-2015
END:VEVENT

END:VCALENDAR
