BEGIN:VCALENDAR
VERSION:2.0
PRODID:-//ChamberMaster//Event Calendar 2.0//EN
METHOD:PUBLISH
X-PUBLISHED-TTL:P3D
REFRESH-INTERVAL:P3D
CALSCALE:GREGORIAN
BEGIN:VEVENT
DTSTART:20141010T220000Z
DTEND:20141011T000000Z
X-MICROSOFT-CDO-ALLDAYEVENT:FALSE
SUMMARY:- 10/10/2014
DESCRIPTION:Improv Comedy Show Mopco will be performing at The National Museum of Dance
X-ALT-DESC;FMTTYPE=text/html:<p>Improv Comedy Show </p><p>Mopco will be performing at The National Museum of Dance&nbsp\;</p>
LOCATION:The National Museum of Dance
UID:e.2254.2026
SEQUENCE:3
DTSTAMP:20260424T123510Z
URL:https://chamber.saratoga.org/events/details/10-10-2014-10-10-2014-2026
END:VEVENT

END:VCALENDAR
