BEGIN:VCALENDAR
VERSION:2.0
PRODID:-//ChamberMaster//Event Calendar 2.0//EN
METHOD:PUBLISH
X-PUBLISHED-TTL:P3D
REFRESH-INTERVAL:P3D
CALSCALE:GREGORIAN
BEGIN:VEVENT
DTSTART:20141009T200000Z
DTEND:20141009T230000Z
X-MICROSOFT-CDO-ALLDAYEVENT:FALSE
SUMMARY:- 10/09/2014
DESCRIPTION:Return to your college days to benefit Project Lift\, a program of Franklin Community CenterWe've got the perfect way for you to reminisce about your college days while giving back to the community—but this time around\, you get to choose the classes that interest you\, without breaking the bank!\n \n On 10/9/14\, Franklin Community Center and Longfellows will host Project Lift University\, a unique and exciting fundraiser to benefit the agency’s after school prevention program\, Project Lift.     In the spirit of education\, and in an effort to switch things up from the typical gala-style fundraisers that populate the summer season\, Project Lift University is a light-hearted\, casual event that is as unique as the program itself.  \n \n The academic-inspired evening will allow event-goers to register for “classes” with talented local professionals\, who will act as “professors” by donating their time to teach a class (classes will be scheduled for a later date\, so bring your calendar).  Attendees who sign up for classes will pay the “registration fee”\, but instead of paying the “professor”\, all proceeds will benefit Project Lift.  It’s a great way to sign up for a topic that interests you\, while also making a difference in the lives of local kids.
X-ALT-DESC;FMTTYPE=text/html:<p>Return to your college days to benefit Project Lift\, a program of Franklin Community Center</p><p><p><font face="Calibri\, sans-serif"><span style="font-size: 15px\;">We've</span></font><span style="font-size: 11pt\; font-family: Calibri\, sans-serif\;">&nbsp\;got the perfect way for you to reminisce about your college days while giving back to the community—but this time around\, you get to choose the classes that interest you\, without breaking the bank!<br> <br> On 10/9/14\, Franklin Community Center and Longfellows will host Project Lift University\, a unique and exciting fundraiser to benefit the agency’s after school prevention program\, Project Lift.&nbsp\; <u></u></span></p> <p> </p> <p><span style="font-size: 11pt\; font-family: Calibri\, sans-serif\;">In the spirit of education\, and in an effort to switch things up from the typical gala-style fundraisers that populate the summer season\, Project Lift University is a light-hearted\, casual event<strong> </strong>that is as unique as the program itself.&nbsp\; <br> <br> The academic-inspired evening will allow event-goers to register for “classes” with talented local professionals\, who will act as “professors” by donating their time to teach a class (classes will be scheduled for a later date\, so bring your calendar).&nbsp\; Attendees who sign up for classes&nbsp\;will pay the “registration fee”\, but instead of paying the “professor”\, all proceeds will benefit Project Lift.&nbsp\; It’s a great way to sign up for a topic that interests you\, while also making a difference in the lives of local kids.<strong> </strong></span></p></p>
LOCATION:Longfellows
UID:e.2254.2710
SEQUENCE:3
DTSTAMP:20260424T093217Z
URL:https://chamber.saratoga.org/events/details/10-09-2014-10-09-2014-2710
END:VEVENT

END:VCALENDAR
