BEGIN:VCALENDAR
VERSION:2.0
PRODID:-//ChamberMaster//Event Calendar 2.0//EN
METHOD:PUBLISH
X-PUBLISHED-TTL:P3D
REFRESH-INTERVAL:P3D
CALSCALE:GREGORIAN
BEGIN:VEVENT
DTSTART:20141009T140000Z
DTEND:20141009T150000Z
X-MICROSOFT-CDO-ALLDAYEVENT:FALSE
SUMMARY:- 10/09/2014
DESCRIPTION:Supernatural Saratoga Springs SamplerBewitched\, bothered and bewildered by bumps in the night? And daytime too? Join Charlie Kuenzel and special guests\, including representatives from the History Museum\, the Preservation Foundation\, and Yaddo Gardens as they share their own tales of ghosts and apparitions in spook-tacular Saratoga Springs. Information on local ghost tours will also be available.\n \nThe Brown Bag Lunch Lecture Series is a monthly\, hour-long program \npresented in partnership by the Saratoga Springs Heritage Area \nVisitor Center and the Saratoga Springs Public Library. This event is \nconducted in the Dutcher Community Room located on the main floor \nof the library.   \nThis program is free and open to the public and begins promptly at noon. Tea and coffee are provided. \n   For more information please contact the Visitor Center at 518-587-3241.
X-ALT-DESC;FMTTYPE=text/html:<p>Supernatural Saratoga Springs Sampler</p><p><span style="font-size: 12pt\; font-family: Arial Narrow\,sans-serif\;">Bewitched\, bothered and bewildered by bumps in the night? And daytime too? Join Charlie Kuenzel and special guests\, including representatives from the History Museum\, the Preservation Foundation\, and Yaddo Gardens as they share their own tales of ghosts and apparitions in spook-tacular Saratoga Springs. Information on local ghost tours will also be available.</span></p>\n<pre>&nbsp\;</pre>\n<pre><span style="font-size: 12pt\; font-family: Arial Narrow\,sans-serif\;">The Brown Bag Lunch Lecture Series is a monthly\, hour-long program <br />presented in partnership by the Saratoga Springs Heritage Area <br />Visitor Center and the Saratoga Springs Public Library. This event is <br />conducted in </span><span style="font-size: 12pt\; font-family: Arial Narrow\,sans-serif\;">the Dutcher Community Room located on the main floor <br />of the library.<span>&nbsp\; </span></span> </pre>\n<pre><span style="font-size: 12pt\; font-family: Arial Narrow\,sans-serif\; color: windowtext\;">This program is free and open to the public and begins promptly at noon. </span><span style="font-size: 12pt\; font-family: Arial Narrow\,sans-serif\; color: windowtext\;">Tea and coffee are provided. </span></pre>\n<p><span style="font-size: 12pt\; font-family: Arial Narrow\,sans-serif\; color: windowtext\;">&nbsp\;&nbsp\; For more information please contact the Visitor Center at 518-587-3241.<span>&nbsp\; </span></span></p>
LOCATION:Saratoga Springs Public Library
UID:e.2254.2079
SEQUENCE:3
DTSTAMP:20260424T110655Z
URL:https://chamber.saratoga.org/events/details/10-09-2014-10-09-2014-2079
END:VEVENT

END:VCALENDAR
