BEGIN:VCALENDAR
VERSION:2.0
PRODID:-//ChamberMaster//Event Calendar 2.0//EN
METHOD:PUBLISH
X-PUBLISHED-TTL:P3D
REFRESH-INTERVAL:P3D
CALSCALE:GREGORIAN
BEGIN:VEVENT
DTSTART:20141010T020000Z
DTEND:20141101T020000Z
X-MICROSOFT-CDO-ALLDAYEVENT:FALSE
SUMMARY:- 10/09/2014
DESCRIPTION:For more informations visit: https://www.facebook.com/SaratogaScareFair162 - Date: October: 10   11\, 17 & 18\, 24 & 25\, 31 2014\nNovember 1\, 2014
X-ALT-DESC;FMTTYPE=text/html:<p>For more informations visit: https://www.facebook.com/SaratogaScareFair162 - Date: October: 10 & 11\, 17 & 18\, 24 & 25\, 31 2014</p><p><em><a href="https://www.facebook.com/SaratogaScareFair162">https://www.facebook.com/SaratogaScareFair162</a></em></p>\n<p><em>Date: October: 10 &amp\; 11\, 17 &amp\; 18\, 24 &amp\; 25\, 31 2014<br />November 1\, 2014</em></p>
LOCATION:Saratoga County Fair
UID:e.2254.1958
SEQUENCE:3
DTSTAMP:20260424T104340Z
URL:https://chamber.saratoga.org/events/details/10-09-2014-10-09-2014-1958
END:VEVENT

END:VCALENDAR
