BEGIN:VCALENDAR
VERSION:2.0
PRODID:-//ChamberMaster//Event Calendar 2.0//EN
METHOD:PUBLISH
X-PUBLISHED-TTL:P3D
REFRESH-INTERVAL:P3D
CALSCALE:GREGORIAN
BEGIN:VEVENT
DTSTART:20141009T020000Z
DTEND:20141218T040000Z
X-MICROSOFT-CDO-ALLDAYEVENT:FALSE
SUMMARY:- 10/08/2014
DESCRIPTION:Visit the collection or exhibitions with a museum educator followed by creative time in the Art Studio. Ages 0 - 5 with adult chaperone. Register for six week sessions or call to register each week.  Every Thursday morning from 10:30am - 11:30am\, for ages up to 5 years old.
X-ALT-DESC;FMTTYPE=text/html:<p>Visit the collection or exhibitions with a museum educator followed by creative time in the Art Studio. Ages 0 - 5 with adult chaperone. Register for six week sessions or call to register each week.  </p><p>Every Thursday morning from 10:30am - 11:30am\, for ages up to 5 years old.</p>
LOCATION:The Hyde Collection Art Museum
UID:e.2254.2090
SEQUENCE:3
DTSTAMP:20260424T062612Z
URL:https://chamber.saratoga.org/events/details/10-08-2014-10-08-2014-2090
END:VEVENT

END:VCALENDAR
