BEGIN:VCALENDAR
VERSION:2.0
PRODID:-//ChamberMaster//Event Calendar 2.0//EN
METHOD:PUBLISH
X-PUBLISHED-TTL:P3D
REFRESH-INTERVAL:P3D
CALSCALE:GREGORIAN
BEGIN:VEVENT
DTSTART:20141007T100000Z
DTEND:20141007T113000Z
X-MICROSOFT-CDO-ALLDAYEVENT:FALSE
SUMMARY:- 10/07/2014
DESCRIPTION:What are Archetypes? How do they help define company culture? Learn more about these powerful characters and see how they can give your marketing and business goals structure and stability.Swiss psychologist Carl S. Jung used the word “archetype” to refer to the recurring patterns found is universal stories – identifying the themes\, symbols and imagery as part of the human psyche. More recently\, Dr. Carol Pearson continued to build out Jung’s work with a body of research that examined archetypal attributes within organizations and groups of people who are part of a culture and share a common purpose.Learn more about these powerful characters and see how they can inspire meaningful messages for your business.Part of Allegory Studios’ Marketing Mastery workshop series.Register by contacting:\nJulia Ingersoll\njulia@allegorystudios.com\n(518) 580-1987 x102Or register online by visiting: http://www.allegorystudios.com/marketing-mastery-saratoga-fallwinter-2014/
X-ALT-DESC;FMTTYPE=text/html:<p>What are Archetypes? How do they help define company culture? Learn more about these powerful characters and see how they can give your marketing and business goals structure and stability.</p><p><p style="margin-bottom: 10px\; border: 0px\; vertical-align: baseline\; font-size: 13px\; line-height: 22px\; word-wrap: break-word\; color: rgb(102\, 102\, 102)\; font-family: 'Open Sans'\; background-color: rgb(255\, 255\, 255)\;">Swiss psychologist Carl S. Jung used the word “archetype” to refer to the recurring patterns found is universal stories – identifying the themes\, symbols and imagery as part of the human psyche.&nbsp\;More recently\, Dr. Carol Pearson continued to build out Jung’s work with a body of research that examined archetypal attributes within organizations and groups of people who are part of a culture and share a common purpose.</p><p style="margin-bottom: 10px\; border: 0px\; vertical-align: baseline\; font-size: 13px\; line-height: 22px\; word-wrap: break-word\; color: rgb(102\, 102\, 102)\; font-family: 'Open Sans'\; background-color: rgb(255\, 255\, 255)\;">Learn more about these powerful characters and see how they can inspire meaningful messages for your business.</p><p style="margin-bottom: 10px\; border: 0px\; vertical-align: baseline\; font-size: 13px\; line-height: 22px\; word-wrap: break-word\; color: rgb(102\, 102\, 102)\; font-family: 'Open Sans'\; background-color: rgb(255\, 255\, 255)\;"><em style="margin: 0px\; padding: 0px\; border: 0px\; vertical-align: baseline\;">Part of Allegory Studios’&nbsp\;<a href="http://www.allegorystudios.com/marketing-mastery-saratoga-fallwinter-2014/" style="margin: 0px\; padding: 0px\; border: 0px\; vertical-align: baseline\; font-size: 13px\; color: rgb(6\, 69\, 118)\; text-decoration: none\; word-wrap: break-word\; outline-style: none\;">Marketing Mastery workshop series.</a></em></p><p style="margin-bottom: 10px\; border: 0px\; vertical-align: baseline\; font-size: 13px\; line-height: 22px\; word-wrap: break-word\; color: rgb(102\, 102\, 102)\; font-family: 'Open Sans'\; background-color: rgb(255\, 255\, 255)\;"><strong style="margin: 0px\; padding: 0px\; border: 0px\; vertical-align: baseline\;">Register by contacting:</strong><br>Julia Ingersoll<br>julia@allegorystudios.com<br>(518) 580-1987 x102</p><p style="margin-bottom: 10px\; border: 0px\; vertical-align: baseline\; font-size: 13px\; line-height: 22px\; word-wrap: break-word\; color: rgb(102\, 102\, 102)\; font-family: 'Open Sans'\; background-color: rgb(255\, 255\, 255)\;">Or register online by visiting:&nbsp\;<a href="http://www.allegorystudios.com/marketing-mastery-saratoga-fallwinter-2014/" style="margin: 0px\; padding: 0px\; border: 0px\; vertical-align: baseline\; font-size: 13px\; color: rgb(6\, 69\, 118)\; text-decoration: none\; word-wrap: break-word\; outline-style: none\;">http://www.allegorystudios.com/marketing-mastery-saratoga-fallwinter-2014/</a></p><div><br></div></p>
LOCATION:Allegory Studios
UID:e.2254.3534
SEQUENCE:3
DTSTAMP:20260424T110459Z
URL:https://chamber.saratoga.org/events/details/10-07-2014-10-07-2014-3534
END:VEVENT

END:VCALENDAR
