BEGIN:VCALENDAR
VERSION:2.0
PRODID:-//ChamberMaster//Event Calendar 2.0//EN
METHOD:PUBLISH
X-PUBLISHED-TTL:P3D
REFRESH-INTERVAL:P3D
CALSCALE:GREGORIAN
BEGIN:VEVENT
DTSTART:20141007T020000Z
DTEND:20141007T020000Z
X-MICROSOFT-CDO-ALLDAYEVENT:FALSE
SUMMARY:- 10/06/2014
DESCRIPTION:A Workshop for veterans and other military job seekers2014 Hiring Our Heroes Job Fair  \n Saratoga Springs\, NY \n \nSUNY Empire State College\n113 West Avenue\, Saratoga Springs\, NY 12866\nOctober 7\, 2014\n EMPLOYMENT WORKSHOP: 8:30 a.m. \nHIRING FAIR: 10:00 a.m.   1:00 p.m.\nThis hiring event is being conducted by the U.S. Chamber of Commerce Foundation\, the Saratoga County and Adirondack Regional Chambers of Commerce\, New York National Guard\, SUNY Empire State College\, NYS Department of Labor\, the NY Committee for the NY Employer Support of the Guard & Reserve (ESGR)\, the U. S. Department of Labor Veterans Employment and Training Service (DOL VETS)\, U. S. Department of Veterans Affairs\, Goodwill Industries International\, The American Legion\, NBC News\, and other local partners.\n  EMPLOYERS\nMust have available jobs.\nRegister for  FREE at HiringOurHeroes.org \n JOB SEEKERS\nRegister for FREE at HiringOurHeroes.org to guarantee admission. \nWalk-ins welcome but space not guaranteed.\nA Workshop for veterans and other military job seekers that focuses on resume writing\, tips for successfully navigating hiring fairs\, military skill translation\, and interviewing will start at 8:30 a.m. To register for the Hiring Our Heroes Employment Workshop\, visit HiringOurHeroes.org \nFor registration questions\, please contact us at hiringourheroes@uschamber.com or call 202-463-5807.\nhttp://www.uschamberfoundation.org/event/saratoga-springs-ny
X-ALT-DESC;FMTTYPE=text/html:<p>A Workshop for veterans and other military job seekers</p><p style="text-align: center\;"><span style="font-size: xx-large\; font-family: Cambria\,Cambria\;">2014 Hiring Our Heroes Job Fair &ndash\;</span></p>\n<p style="text-align: center\;"><span style="font-size: xx-large\; font-family: Cambria\,Cambria\;">&nbsp\;Saratoga Springs\, NY </span></p>\n<p>&nbsp\;</p>\n<p>SUNY Empire State College</p>\n<p>113 West Avenue\, Saratoga Springs\, NY 12866</p>\n<p>October 7\, 2014</p>\n<p align="left">&nbsp\;<span style="font-size: medium\;">EMPLOYMENT WORKSHOP</span><span style="font-size: x-large\;"><span style="font-size: medium\;">: 8:30 a.m.</span> </span></p>\n<p><span style="font-size: large\;">HIRING FAIR: 10:00 a.m. &ndash\; 1:00 p.m.</span></p>\n<p><span style="font-size: small\;">This hiring event is being conducted by the U.S. Chamber of Commerce Foundation\, the Saratoga County and Adirondack Regional Chambers of Commerce\, New York National Guard\, SUNY Empire State College\, NYS Department of Labor\, the NY Committee for the NY Employer Support of the Guard &amp\; Reserve (ESGR)\, the U. S. Department of Labor Veterans Employment and Training Service (DOL VETS)\, U. S. Department of Veterans Affairs\, Goodwill Industries International\, The American Legion\, NBC News\, and other local partners.</span></p>\n<p style="text-align: center\;" align="left">&nbsp\;&nbsp\;<span style="font-size: medium\;">EMPLOYERS</span></p>\n<p style="text-align: center\;"><span style="font-size: small\;">Must have available jobs.</span></p>\n<p style="text-align: center\;"><span style="font-size: small\;">Register for&nbsp\; <strong>FREE </strong><span style="font-family: Arial\,Arial\;">at HiringOurHeroes.org </span></span></p>\n<p style="text-align: center\;"><span style="font-size: medium\;">&nbsp\;JOB SEEKERS</span></p>\n<p style="text-align: center\;"><span style="font-size: small\;">Register for <strong>FREE </strong><span style="font-family: Arial\,Arial\;">at HiringOurHeroes.org&nbsp\;</span></span><span style="font-size: small\;">to guarantee admission. </span></p>\n<p style="text-align: center\;"><span style="font-size: small\;"><span style="font-size: x-small\;">Walk-ins welcome but space not guaranteed.</span></span></p>\n<p><span style="font-size: medium\;">A <strong><span style="font-family: Cambria\,Cambria\;"><strong><span style="font-family: Cambria\,Cambria\;">Workshop </span></strong></span></strong></span><span style="font-size: medium\; font-family: Cambria\,Cambria\;">for veterans and other military job seekers that focuses on resume writing\, tips for successfully navigating hiring fairs\, military skill translation\, and interviewing will start at 8:30 a.m. To register for the Hiring Our Heroes Employment Workshop\, visit HiringOurHeroes.org </span></p>\n<p>For registration questions\, please contact us at hiringourheroes@uschamber.com or call 202-463-5807.</p>\n<p><a href="http://www.uschamberfoundation.org/event/saratoga-springs-ny">http://www.uschamberfoundation.org/event/saratoga-springs-ny</a></p>
LOCATION:SUNY Empire State College
UID:e.2254.3477
SEQUENCE:3
DTSTAMP:20260424T123441Z
URL:https://chamber.saratoga.org/events/details/10-06-2014-10-06-2014-3477
END:VEVENT

END:VCALENDAR
