BEGIN:VCALENDAR
VERSION:2.0
PRODID:-//ChamberMaster//Event Calendar 2.0//EN
METHOD:PUBLISH
X-PUBLISHED-TTL:P3D
REFRESH-INTERVAL:P3D
CALSCALE:GREGORIAN
BEGIN:VEVENT
DTSTART:20141004T113000Z
DTEND:20141004T140000Z
X-MICROSOFT-CDO-ALLDAYEVENT:FALSE
SUMMARY:- 10/04/2014
DESCRIPTION:Come support The Wesley Community at the 1st Annual Balloon Walk on Saturday\, October 4\, 2014 at 9:30 a.m. at The Wesley Community campus in Saratoga Springs. Come support The Wesley Community at the 1st Annual Balloon Walk on Saturday\, October 4\, 2014 at 9:30 a.m. at The Wesley Community campus in Saratoga Springs.  The 1st Annual Balloon Walk is presented by Medline.  Participants will walk a 1-mile or a .25 mile course\, collecting colorful balloons along the route to create a parade of color.  In addition\, a hot-air balloon will be on The Wesley Community campus near the Community Garden area (weather permitting).  All registered participants will receive a 1st Annual Balloon Walk t-shirt.  Fun family activities and food will also be available for registered participants.  Registration is $20 for adults\, $15 for children\, and is available online at www.theballoonwalk.com.  Check in and registration begins at 8:30 a.m.  The Wesley Community cares for more than 700 seniors and people with disabilities from throughout the area.  For more information\, call 518-691-1420 or visit www.theballoonwalk.com.
X-ALT-DESC;FMTTYPE=text/html:<p>Come support The Wesley Community at the 1st Annual Balloon Walk on Saturday\, October 4\, 2014 at 9:30 a.m. at The Wesley Community campus in Saratoga Springs. </p><p style="margin: 0in 0in 0.0001pt\;"><strong><span style="font-weight: normal\;"></span></strong></p><p style="margin: 0in 0in 0.0001pt\;"><span style="font-weight: normal\;">Come support The Wesley Community at </span>the 1st Annual Balloon Walk on Saturday\, October 4\, 2014 at 9:30 a.m. at The Wesley Community campus in Saratoga Springs.<span>&nbsp\; </span>The 1<sup>st</sup> Annual Balloon Walk is presented by Medline.&nbsp\; Participants will walk a 1-mile or a .25 mile course\, collecting colorful balloons along the route to create a parade of color.&nbsp\; In addition\, a hot-air balloon will be on The Wesley Community campus near the Community Garden area (weather permitting).&nbsp\; All registered <span style="font-weight: normal\;">participants will receive a 1<sup>st</sup> Annual Balloon Walk t-shirt.<span>&nbsp\; </span></span>Fun family activities and food will also be available for registered participants.<span>&nbsp\; </span><span style="font-weight: normal\;">Registration is $20 for adults\, $15 for children\, and is available online at <a href="http://www.theballoonwalk.com"><span>www.theballoonwalk.com</span></a>.<span>&nbsp\; </span><strong><span style="font-size: 11pt\; line-height: 115%\; font-family: Calibri\,sans-serif\; font-weight: normal\;">Check in and registration begins at 8:30 a.m. &nbsp\;</span></strong>The Wesley Community cares for more than 700 seniors and people with disabilities from throughout the area.<span>&nbsp\; </span>For more information\, call 518-691-1420 or visit <a href="http://www.theballoonwalk.com"><span>www.theballoonwalk.com</span></a>. <span>&nbsp\;</span></span></p><p></p>
LOCATION:The Wesley Community
UID:e.2254.3566
SEQUENCE:3
DTSTAMP:20260424T092919Z
URL:https://chamber.saratoga.org/events/details/10-04-2014-10-04-2014-3566
END:VEVENT

END:VCALENDAR
