BEGIN:VCALENDAR
VERSION:2.0
PRODID:-//ChamberMaster//Event Calendar 2.0//EN
METHOD:PUBLISH
X-PUBLISHED-TTL:P3D
REFRESH-INTERVAL:P3D
CALSCALE:GREGORIAN
BEGIN:VEVENT
DTSTART:20141004T020000Z
DTEND:20141005T020000Z
X-MICROSOFT-CDO-ALLDAYEVENT:FALSE
SUMMARY:- 10/03/2014
DESCRIPTION:American Muse\, An Original Musical\,  Saturday\, October 04\,2:30 PM - 4:30 PM\, 7:30 PM - 9:30 PM\, Sunday\, October 05\, 2014 2:30 PM - 4:30 PMThe Saratoga Springs Preservation Foundation presents “American Muse\,” an original musical based on the life of Audrey Munson\, the model who posed in 1915 for the Spirit of Life Sculpture in Congress Park. Written by Elaine Kuracina\, the production is based on Audrey’s inspired life and her artistic influence of the Beaux Arts period in American history. Proceeds to benefit the Spirit of Life & Spencer Trask Memorial Restoration Campaign.
X-ALT-DESC;FMTTYPE=text/html:<p>American Muse\, An Original Musical\,  Saturday\, October 04\,2:30 PM - 4:30 PM\, 7:30 PM - 9:30 PM\, Sunday\, October 05\, 2014 2:30 PM - 4:30 PM</p><p>The Saratoga Springs Preservation Foundation presents “American Muse\,” an original musical based on the life of Audrey Munson\, the model who posed in 1915 for the Spirit of Life Sculpture in Congress Park. Written by Elaine Kuracina\, the production is based on Audrey’s inspired life and her artistic influence of the Beaux Arts period in American history.&nbsp\;</p><p><p>Proceeds to benefit the Spirit of Life &amp\; Spencer Trask Memorial Restoration Campaign.&nbsp\;</p></p>
LOCATION:Dee Sarno Theater
UID:e.2254.3502
SEQUENCE:3
DTSTAMP:20260424T110626Z
URL:https://chamber.saratoga.org/events/details/10-03-2014-10-03-2014-3502
END:VEVENT

END:VCALENDAR
