BEGIN:VCALENDAR
VERSION:2.0
PRODID:-//ChamberMaster//Event Calendar 2.0//EN
METHOD:PUBLISH
X-PUBLISHED-TTL:P3D
REFRESH-INTERVAL:P3D
CALSCALE:GREGORIAN
BEGIN:VEVENT
DTSTART:20141003T170000Z
DTEND:20141003T200000Z
X-MICROSOFT-CDO-ALLDAYEVENT:FALSE
SUMMARY:- 10/03/2014
DESCRIPTION:"Acoustic Ecology"Join exhibiting artist Kamau Patton for a workshop and sound walk through the Skidmore campus. 3 p.m.-Tang Museum For more information call 518-580-8080
X-ALT-DESC;FMTTYPE=text/html:<p>"Acoustic Ecology"</p><p><span style="color: black\;">Join exhibiting artist Kamau Patton for a workshop and sound walk through the Skidmore campus.</span></p> <p><span style="color: black\;">3 p.m.-Tang Museum</span></p> <span style="font-size: 12pt\; font-family: Times New Roman\,serif\; color: black\;">For more information call 518-580-8080</span>
LOCATION:Tang Museum\, Skidmore College
UID:e.2254.2027
SEQUENCE:3
DTSTAMP:20260424T123603Z
URL:https://chamber.saratoga.org/events/details/10-03-2014-10-03-2014-2027
END:VEVENT

END:VCALENDAR
