BEGIN:VCALENDAR
VERSION:2.0
PRODID:-//ChamberMaster//Event Calendar 2.0//EN
METHOD:PUBLISH
X-PUBLISHED-TTL:P3D
REFRESH-INTERVAL:P3D
CALSCALE:GREGORIAN
BEGIN:VEVENT
DTSTART:20141002T190000Z
DTEND:20141002T203000Z
X-MICROSOFT-CDO-ALLDAYEVENT:FALSE
SUMMARY:- 10/02/2014
DESCRIPTION:Black Oak Wind Farm is doing a public presentation today in Saratoga Springs about investment opportunity in local community-owned wind powerCOME LEARN ABOUT COMMUNITY-OWNED WIND POWER IN NY STATE! Black Oak Wind Farm LLC\, the first community-owned wind project in New York State\, has just opened a new financing round that will provide NY residents their first opportunity to invest directly in wind energy. The turbines will be built next year according to plans.   Today\, Thursday Oct. 2\, we will be in Saratoga Springs presenting our project and near-term plans to the public. This meeting is open to anyone who's interested in local renewable energy solutions and is a NY State resident. The event will be held at the Saratoga Springs Admin Building\, from 5:00 to 6:30 pm.  We hope to see you there!To learn more and for a full calendar of events visit www.blackoakwindny.com
X-ALT-DESC;FMTTYPE=text/html:<p>Black Oak Wind Farm is doing a public presentation today in Saratoga Springs about investment opportunity in local community-owned wind power</p><p style="line-height: 115%\;"><p style="line-height: 115%\;"><span style="font-family: Lucida Sans\,sans-serif\;">COME LEARN ABOUT COMMUNITY-OWNED WIND POWER IN NY STATE!<span>&nbsp\;</span></span></p><span style="font-family: Lucida Sans\,sans-serif\;">Black Oak Wind Farm LLC\, the first community-owned wind project in New York State\, has just opened a new financing round that will provide NY residents their first opportunity to invest directly in wind energy. The turbines will be built next year according to plans.&nbsp\; </span></p> <p style="line-height: 115%\;"><span style="font-family: Lucida Sans\,sans-serif\;">Today\, Thursday Oct. 2\, we will be in Saratoga Springs presenting our project and near-term plans to the public. This meeting is open to anyone who's interested in local renewable energy solutions and is a NY State resident. The event will be held at the Saratoga Springs Admin Building\, from 5:00 to 6:30 pm.&nbsp\; We hope to see you there!</span></p><p style="line-height: 115%\;"><span style="font-family: Lucida Sans\,sans-serif\;">To learn more and for a full calendar of events visit </span><a href="http://www.blackoakwindny.com"><span style="font-family: Lucida Sans\,sans-serif\;">www.blackoakwindny.com</span></a> </p>
LOCATION:Saratoga Springs Administration Building
UID:e.2254.2076
SEQUENCE:3
DTSTAMP:20260424T092919Z
URL:https://chamber.saratoga.org/events/details/10-02-2014-10-02-2014-2076
END:VEVENT

END:VCALENDAR
